BEGIN:VCALENDAR
VERSION:2.0
PRODID:-//WiredWest - ECPv6.15.20//NONSGML v1.0//EN
CALSCALE:GREGORIAN
METHOD:PUBLISH
X-WR-CALNAME:WiredWest
X-ORIGINAL-URL:https://wiredwest.net
X-WR-CALDESC:Events for WiredWest
REFRESH-INTERVAL;VALUE=DURATION:PT1H
X-Robots-Tag:noindex
X-PUBLISHED-TTL:PT1H
BEGIN:VTIMEZONE
TZID:America/New_York
BEGIN:DAYLIGHT
TZOFFSETFROM:-0500
TZOFFSETTO:-0400
TZNAME:EDT
DTSTART:20180311T070000
END:DAYLIGHT
BEGIN:STANDARD
TZOFFSETFROM:-0400
TZOFFSETTO:-0500
TZNAME:EST
DTSTART:20181104T060000
END:STANDARD
BEGIN:DAYLIGHT
TZOFFSETFROM:-0500
TZOFFSETTO:-0400
TZNAME:EDT
DTSTART:20190310T070000
END:DAYLIGHT
BEGIN:STANDARD
TZOFFSETFROM:-0400
TZOFFSETTO:-0500
TZNAME:EST
DTSTART:20191103T060000
END:STANDARD
BEGIN:DAYLIGHT
TZOFFSETFROM:-0500
TZOFFSETTO:-0400
TZNAME:EDT
DTSTART:20200308T070000
END:DAYLIGHT
BEGIN:STANDARD
TZOFFSETFROM:-0400
TZOFFSETTO:-0500
TZNAME:EST
DTSTART:20201101T060000
END:STANDARD
BEGIN:DAYLIGHT
TZOFFSETFROM:-0500
TZOFFSETTO:-0400
TZNAME:EDT
DTSTART:20210314T070000
END:DAYLIGHT
BEGIN:STANDARD
TZOFFSETFROM:-0400
TZOFFSETTO:-0500
TZNAME:EST
DTSTART:20211107T060000
END:STANDARD
BEGIN:DAYLIGHT
TZOFFSETFROM:-0500
TZOFFSETTO:-0400
TZNAME:EDT
DTSTART:20220313T070000
END:DAYLIGHT
BEGIN:STANDARD
TZOFFSETFROM:-0400
TZOFFSETTO:-0500
TZNAME:EST
DTSTART:20221106T060000
END:STANDARD
END:VTIMEZONE
BEGIN:VEVENT
DTSTART;TZID=America/New_York:20210421T183000
DTEND;TZID=America/New_York:20210421T200000
DTSTAMP:20260425T095254
CREATED:20210222T160107Z
LAST-MODIFIED:20210418T220133Z
UID:11397-1619029800-1619035200@wiredwest.net
SUMMARY:WiredWest Board of Directors Meeting (online)
DESCRIPTION:Download
URL:https://wiredwest.net/event/wiredwest-board-of-directors-meeting-online-8/
LOCATION:Doug’s Zoom BoD
CATEGORIES:Board Meeting
END:VEVENT
BEGIN:VEVENT
DTSTART;TZID=America/New_York:20210407T183000
DTEND;TZID=America/New_York:20210407T190000
DTSTAMP:20260425T095254
CREATED:20210222T155724Z
LAST-MODIFIED:20210405T194215Z
UID:11394-1617820200-1617822000@wiredwest.net
SUMMARY:WiredWest Executive Committee Meeting (online)
DESCRIPTION:Download
URL:https://wiredwest.net/event/wiredwest-executive-committee-meeting-online-4/
LOCATION:EC Zoom
CATEGORIES:Executive Committee Meeting
END:VEVENT
BEGIN:VEVENT
DTSTART;TZID=America/New_York:20210317T183000
DTEND;TZID=America/New_York:20210317T200000
DTSTAMP:20260425T095254
CREATED:20210114T235358Z
LAST-MODIFIED:20210314T014708Z
UID:11362-1616005800-1616011200@wiredwest.net
SUMMARY:WiredWest Board of Directors Meeting - online
DESCRIPTION:Download
URL:https://wiredwest.net/event/wiredwest-board-of-directors-meeting-online-7/
LOCATION:Doug’s Zoom BoD
CATEGORIES:Board Meeting
END:VEVENT
BEGIN:VEVENT
DTSTART;TZID=America/New_York:20210303T183000
DTEND;TZID=America/New_York:20210303T190000
DTSTAMP:20260425T095254
CREATED:20210115T212240Z
LAST-MODIFIED:20210301T001017Z
UID:11366-1614796200-1614798000@wiredwest.net
SUMMARY:WiredWest Executive Committee Meeting - online
DESCRIPTION:Loading...\n						\n					\n					\n						\n							\n							Taking too long?\n						\n						\n							\n								 Reload document							\n							|\n							\n								 Open in new tab							\n					\n				\n			\n		Download
URL:https://wiredwest.net/event/wiredwest-executive-committee-meeting-online-3/
LOCATION:EC Zoom
CATEGORIES:Executive Committee Meeting
END:VEVENT
BEGIN:VEVENT
DTSTART;TZID=America/New_York:20210217T183000
DTEND;TZID=America/New_York:20210217T200000
DTSTAMP:20260425T095254
CREATED:20210114T235041Z
LAST-MODIFIED:20210215T221621Z
UID:11360-1613586600-1613592000@wiredwest.net
SUMMARY:WiredWest Board of Directors Meeting - online
DESCRIPTION:Download
URL:https://wiredwest.net/event/wiredwest-board-of-directors-meeting-online-6/
LOCATION:Doug’s Zoom BoD
CATEGORIES:Board Meeting
END:VEVENT
BEGIN:VEVENT
DTSTART;TZID=America/New_York:20210203T183000
DTEND;TZID=America/New_York:20210203T190000
DTSTAMP:20260425T095254
CREATED:20210115T211939Z
LAST-MODIFIED:20210130T184915Z
UID:11357-1612377000-1612378800@wiredwest.net
SUMMARY:WiredWest Executive Committee Meeting - Online
DESCRIPTION:Download
URL:https://wiredwest.net/event/wiredwest-executive-committee-meeting-online-2/
LOCATION:EC Zoom
CATEGORIES:Executive Committee Meeting
END:VEVENT
BEGIN:VEVENT
DTSTART;TZID=America/New_York:20210120T183000
DTEND;TZID=America/New_York:20210120T200000
DTSTAMP:20260425T095254
CREATED:20201208T002759Z
LAST-MODIFIED:20210117T214515Z
UID:11320-1611167400-1611172800@wiredwest.net
SUMMARY:WiredWest Board of Directors Meeting - online
DESCRIPTION:Download
URL:https://wiredwest.net/event/wiredwest-board-of-directors-meeting-online-5/
LOCATION:Doug’s Zoom BoD
CATEGORIES:Board Meeting
END:VEVENT
BEGIN:VEVENT
DTSTART;TZID=America/New_York:20210105T183000
DTEND;TZID=America/New_York:20210105T190000
DTSTAMP:20260425T095254
CREATED:20210103T195400Z
LAST-MODIFIED:20210103T195542Z
UID:11351-1609871400-1609873200@wiredwest.net
SUMMARY:WiredWest Executive Committee Meeting - Online
DESCRIPTION:Download
URL:https://wiredwest.net/event/wiredwest-executive-committee-meeting-online/
CATEGORIES:Executive Committee Meeting
END:VEVENT
BEGIN:VEVENT
DTSTART;TZID=America/New_York:20201216T183000
DTEND;TZID=America/New_York:20201216T200000
DTSTAMP:20260425T095254
CREATED:20201022T005009Z
LAST-MODIFIED:20201212T164920Z
UID:11290-1608143400-1608148800@wiredwest.net
SUMMARY:WiredWest Board of Directors Meeting - online
DESCRIPTION:Download
URL:https://wiredwest.net/event/wiredwest-board-of-directors-meeting-online-4/
LOCATION:Doug’s Zoom BoD
CATEGORIES:Board Meeting
END:VEVENT
BEGIN:VEVENT
DTSTART;TZID=America/New_York:20201118T183000
DTEND;TZID=America/New_York:20201118T200000
DTSTAMP:20260425T095254
CREATED:20201016T190949Z
LAST-MODIFIED:20201115T190054Z
UID:11285-1605724200-1605729600@wiredwest.net
SUMMARY:WiredWest Board of Directors Meeting - online
DESCRIPTION:Agenda: \n			\n				\n					\n						\n							\n							Loading...\n						\n					\n					\n						\n							\n							Taking too long?\n						\n						\n							\n								 Reload document							\n							|\n							\n								 Open in new tab							\n					\n				\n			\n		Download
URL:https://wiredwest.net/event/wiredwest-board-of-directors-meeting-online-3/
CATEGORIES:Board Meeting
END:VEVENT
BEGIN:VEVENT
DTSTART;TZID=America/New_York:20201021T080000
DTEND;TZID=America/New_York:20201021T170000
DTSTAMP:20260425T095254
CREATED:20200908T215233Z
LAST-MODIFIED:20201018T190357Z
UID:11230-1603267200-1603299600@wiredwest.net
SUMMARY:WiredWest Board of Directors Meeting - online
DESCRIPTION:Download
URL:https://wiredwest.net/event/wiredwest-board-of-directors-meeting-online-2/
CATEGORIES:Board Meeting
END:VEVENT
BEGIN:VEVENT
DTSTART;TZID=America/New_York:20200916T190000
DTEND;TZID=America/New_York:20200916T203000
DTSTAMP:20260425T095254
CREATED:20200804T204739Z
LAST-MODIFIED:20200914T160552Z
UID:11175-1600282800-1600288200@wiredwest.net
SUMMARY:WiredWest Board of Directors Meeting - online
DESCRIPTION:Download Word Doc
URL:https://wiredwest.net/event/wiredwest-board-of-directors-meeting-32/
CATEGORIES:Board Meeting
END:VEVENT
BEGIN:VEVENT
DTSTART;TZID=America/New_York:20200819T190000
DTEND;TZID=America/New_York:20200819T203000
DTSTAMP:20260425T095254
CREATED:20200804T204339Z
LAST-MODIFIED:20200816T155807Z
UID:11173-1597863600-1597869000@wiredwest.net
SUMMARY:WiredWest Board of Directors Meeting
DESCRIPTION:Download
URL:https://wiredwest.net/event/wiredwest-board-of-directors-meeting-31/
CATEGORIES:Board Meeting
END:VEVENT
BEGIN:VEVENT
DTSTART;TZID=America/New_York:20200715T190000
DTEND;TZID=America/New_York:20200715T203000
DTSTAMP:20260425T095254
CREATED:20200614T195405Z
LAST-MODIFIED:20200713T143510Z
UID:11132-1594839600-1594845000@wiredwest.net
SUMMARY:WiredWest Board of Directors Meeting - Online
DESCRIPTION:Agenda updated 7/13/2020 10:34 am \nDownload
URL:https://wiredwest.net/event/wiredwest-board-of-directors-meeting-online/
CATEGORIES:Board Meeting
END:VEVENT
BEGIN:VEVENT
DTSTART;TZID=America/New_York:20200617T190000
DTEND;TZID=America/New_York:20200617T203000
DTSTAMP:20260425T095255
CREATED:20200430T151857Z
LAST-MODIFIED:20200614T220207Z
UID:11099-1592420400-1592425800@wiredwest.net
SUMMARY:WiredWest Board of Directors Meeting - Online
DESCRIPTION:Download
URL:https://wiredwest.net/event/wiredwest-board-of-directors-meeting-29/
END:VEVENT
BEGIN:VEVENT
DTSTART;TZID=America/New_York:20200520T190000
DTEND;TZID=America/New_York:20200520T203000
DTSTAMP:20260425T095255
CREATED:20200430T151759Z
LAST-MODIFIED:20200519T191607Z
UID:11097-1590001200-1590006600@wiredwest.net
SUMMARY:WiredWest Board of Directors Meeting
DESCRIPTION:Note: The Executive Committee will no long meet separately. Until further notice\, the Board meet on the third Wednesday of the month. \nNote: Due to the CoVid-19 pandemic\, Governor Baker has temporarily suspended the open meeting law requirement that participants be physically present. This meeting will be by teleconference only using GoToMeeting: \nIf you have never used GoToMeeting (GTM) before\, We strongly recommend you click the link about 10-15 minutes *BEFORE* the start of the meeting\, so the GTM software can download and install onto their computers. \nIf you do not join the meeting via the GTM application\, you will be able to hear but NOT SPEAK.  So you MUST join via the application in order to participate.  Once you have joined\, you can use a landline or cell phone; internet is no longer needed. \nThe meeting will be open to join 5-10 minutes before 7pm. \nMeeting information \nWed\, April 15\, 2020 7:00 PM – 9:00 PM (EDT) \nPlease join the meeting from your computer\, tablet or smartphone.\nhttp://global.gotomeeting.com/join/430792053 \nYou can also dial in using your phone. \n(For supported devices\, tap a one-touch number below to join instantly.) \nUnited States: +1 (224) 501-3412\nAccess Code: 430-792-053\nOne-touch: tel:+12245013412\,\,430792053# \nAgenda\nDownload
URL:https://wiredwest.net/event/wiredwest-board-of-directors-meeting-28/
CATEGORIES:Board Meeting
END:VEVENT
BEGIN:VEVENT
DTSTART;TZID=America/New_York:20200415T190000
DTEND;TZID=America/New_York:20200415T203000
DTSTAMP:20260425T095255
CREATED:20200308T165910Z
LAST-MODIFIED:20200411T233539Z
UID:11007-1586977200-1586982600@wiredwest.net
SUMMARY:WiredWest Board of Directors Meeting
DESCRIPTION:Note: The Executive Committee will no long meet separately. Until further notice\, the Board meet on the third Wednesday of the month. \nNote: Due to the CoVid-19 pandemic\, Governor Baker has temporarily suspended the open meeting law requirement that participants be physically present. This meeting will be by teleconference only using GoToMeeting: \nIf you have never used GoToMeeting (GTM) before\, We strongly recommend you click the link about 10-15 minutes *BEFORE* the start of the meeting\, so the GTM software can download and install onto their computers. \nIf you do not join the meeting via the GTM application\, you will be able to hear but NOT SPEAK.  So you MUST join via the application in order to participate.  Once you have joined\, you can use a landline or cell phone; internet is no longer needed. \nThe meeting will be open to join 5-10 minutes before 7pm. \nMeeting information \nWed\, April 15\, 2020 7:00 PM – 9:00 PM (EDT) \nPlease join the meeting from your computer\, tablet or smartphone.\nhttp://global.gotomeeting.com/join/430792053 \nYou can also dial in using your phone. \n(For supported devices\, tap a one-touch number below to join instantly.) \nUnited States: +1 (224) 501-3412\nAccess Code: 430-792-053\nOne-touch: tel:+12245013412\,\,430792053# \nDownload
URL:https://wiredwest.net/event/wiredwest-board-of-directors-meeting-26/
CATEGORIES:Board Meeting
END:VEVENT
BEGIN:VEVENT
DTSTART;TZID=America/New_York:20200408T190000
DTEND;TZID=America/New_York:20200408T203000
DTSTAMP:20260425T095255
CREATED:20200308T165727Z
LAST-MODIFIED:20200319T174902Z
UID:11005-1586372400-1586377800@wiredwest.net
SUMMARY:CANCELLED: WiredWest Executive Committee Meeting
DESCRIPTION:This meeting has been cancelled. We decided to combine EC meetings with Board Meetings until further notice.
URL:https://wiredwest.net/event/wiredwest-executive-committee-meeting-106/
LOCATION:Windsor Town Offices\, 1890 Route 9\, Windsor\, MA\, 01270\, United States
CATEGORIES:Executive Committee Meeting
END:VEVENT
BEGIN:VEVENT
DTSTART;TZID=America/New_York:20200325T190000
DTEND;TZID=America/New_York:20200325T203000
DTSTAMP:20260425T095255
CREATED:20200319T113824Z
LAST-MODIFIED:20200319T174710Z
UID:11024-1585162800-1585168200@wiredwest.net
SUMMARY:WiredWest Board of Directors Meeting
DESCRIPTION:Note: Due to the CoVid-19 pandemic\, Governor Baker has temporarily suspended the open meeting law requirement that participants be physically present. This meeting will be by teleconference only using GoToMeeting: \nIf you have never used GoToMeeting (GTM) before\, We strongly recommend you click the link about 10-15 minutes *BEFORE* the start of the meeting\, so the GTM software can download and install onto their computers. \nIf you do not join the meeting via the GTM application\, you will be able to hear but NOT SPEAK.  So you MUST join via the application in order to participate.  Once you have joined\, you can use a landline or cell phone; internet is no longer needed. \nThe meeting will be open to join 5-10 minutes before 7pm. \nMeeting information \nWed\, Mar 25\, 2020 7:00 PM – 9:00 PM (EDT) \nPlease join the meeting from your computer\, tablet or smartphone.\nhttp://global.gotomeeting.com/join/605443405 \nYou can also dial in using your phone. \n(For supported devices\, tap a one-touch number below to join instantly.)\nUnited States: +1 (669) 224-3412\n– One-touch: tel:+16692243412\,\,605443405#\nAccess Code: 605-443-405 \nDownload
URL:https://wiredwest.net/event/wiredwest-board-of-directors-meeting-27/
CATEGORIES:Board Meeting
END:VEVENT
BEGIN:VEVENT
DTSTART;TZID=America/New_York:20200318T190000
DTEND;TZID=America/New_York:20200318T203000
DTSTAMP:20260425T095255
CREATED:20200308T164956Z
LAST-MODIFIED:20200316T190822Z
UID:11000-1584558000-1584563400@wiredwest.net
SUMMARY:WiredWest Board of Directors Meeting
DESCRIPTION:Note: Due to the CoVid-19 pandemic\, Governor Baker has temporarily suspended the open meeting law requirement that participants be physically present. Those who wish to participate by phone can call in on the conference number: 605-313-4802 / 298058# \nDownload
URL:https://wiredwest.net/event/wiredwest-board-of-directors-meeting-25/
LOCATION:Windsor Town Offices\, 1890 Route 9\, Windsor\, MA\, 01270\, United States
CATEGORIES:Board Meeting
END:VEVENT
BEGIN:VEVENT
DTSTART;TZID=America/New_York:20200311T190000
DTEND;TZID=America/New_York:20200311T203000
DTSTAMP:20260425T095255
CREATED:20200217T154439Z
LAST-MODIFIED:20200309T141226Z
UID:10971-1583953200-1583958600@wiredwest.net
SUMMARY:WiredWest Executive Committee Meeting
DESCRIPTION:Download
URL:https://wiredwest.net/event/wiredwest-executive-committee-meeting-105/
LOCATION:Windsor Town Offices\, 1890 Route 9\, Windsor\, MA\, 01270\, United States
CATEGORIES:Executive Committee Meeting
END:VEVENT
BEGIN:VEVENT
DTSTART;TZID=America/New_York:20200219T190000
DTEND;TZID=America/New_York:20200219T210000
DTSTAMP:20260425T095255
CREATED:20191211T160505Z
LAST-MODIFIED:20200218T232826Z
UID:10859-1582138800-1582146000@wiredwest.net
SUMMARY:WiredWest Board of Directors Meeting
DESCRIPTION:Download
URL:https://wiredwest.net/event/wiredwest-board-of-directors-meeting-24/
CATEGORIES:Board Meeting
END:VEVENT
BEGIN:VEVENT
DTSTART;TZID=America/New_York:20200212T190000
DTEND;TZID=America/New_York:20200212T210000
DTSTAMP:20260425T095255
CREATED:20191211T160343Z
LAST-MODIFIED:20200210T211439Z
UID:10856-1581534000-1581541200@wiredwest.net
SUMMARY:WiredWest Executive Committee Meeting
DESCRIPTION:Download
URL:https://wiredwest.net/event/wiredwest-executive-committee-meeting-104/
CATEGORIES:Executive Committee Meeting
END:VEVENT
BEGIN:VEVENT
DTSTART;TZID=America/New_York:20200115T190000
DTEND;TZID=America/New_York:20200115T210000
DTSTAMP:20260425T095255
CREATED:20191108T150048Z
LAST-MODIFIED:20200107T234820Z
UID:10746-1579114800-1579122000@wiredwest.net
SUMMARY:WiredWest Board of Directors Meeting
DESCRIPTION:Download
URL:https://wiredwest.net/event/wiredwest-board-of-directors-meeting-23/
CATEGORIES:Board Meeting
END:VEVENT
BEGIN:VEVENT
DTSTART;TZID=America/New_York:20200102T190000
DTEND;TZID=America/New_York:20200102T210000
DTSTAMP:20260425T095255
CREATED:20191211T160039Z
LAST-MODIFIED:20191227T220447Z
UID:10854-1577991600-1577998800@wiredwest.net
SUMMARY:WiredWest Executive Committee Meeting
DESCRIPTION:Download
URL:https://wiredwest.net/event/wiredwest-executive-committee-meeting-103/
CATEGORIES:Executive Committee Meeting
END:VEVENT
BEGIN:VEVENT
DTSTART;TZID=America/New_York:20191211T190000
DTEND;TZID=America/New_York:20191211T203000
DTSTAMP:20260425T095255
CREATED:20190925T221133Z
LAST-MODIFIED:20191208T141838Z
UID:10336-1576090800-1576096200@wiredwest.net
SUMMARY:WiredWest Board of Directors Meeting
DESCRIPTION:Download
URL:https://wiredwest.net/event/wiredwest-board-of-directors-meeting-22/
CATEGORIES:Board Meeting
END:VEVENT
BEGIN:VEVENT
DTSTART;TZID=America/New_York:20191204T190000
DTEND;TZID=America/New_York:20191204T210000
DTSTAMP:20260425T095255
CREATED:20191108T145858Z
LAST-MODIFIED:20191201T153916Z
UID:10744-1575486000-1575493200@wiredwest.net
SUMMARY:WiredWest Executive Committee Meeting
DESCRIPTION:Download
URL:https://wiredwest.net/event/wiredwest-executive-committee-meeting-102/
CATEGORIES:Executive Committee Meeting
END:VEVENT
BEGIN:VEVENT
DTSTART;TZID=America/New_York:20191113T190000
DTEND;TZID=America/New_York:20191113T203000
DTSTAMP:20260425T095255
CREATED:20190925T220942Z
LAST-MODIFIED:20191108T145344Z
UID:10334-1573671600-1573677000@wiredwest.net
SUMMARY:WiredWest Board of Directors Meeting
DESCRIPTION:Download
URL:https://wiredwest.net/event/wiredwest-board-of-directors-meeting-21/
CATEGORIES:Board Meeting
END:VEVENT
BEGIN:VEVENT
DTSTART;TZID=America/New_York:20191030T190000
DTEND;TZID=America/New_York:20191030T203000
DTSTAMP:20260425T095255
CREATED:20191014T132313Z
LAST-MODIFIED:20191028T234757Z
UID:10536-1572462000-1572467400@wiredwest.net
SUMMARY:WiredWest Executive Committee Meeting
DESCRIPTION:Download
URL:https://wiredwest.net/event/wiredwest-executive-committee-meeting-101/
CATEGORIES:Executive Committee Meeting
END:VEVENT
BEGIN:VEVENT
DTSTART;TZID=America/New_York:20191016T190000
DTEND;TZID=America/New_York:20191016T203000
DTSTAMP:20260425T095255
CREATED:20190826T195018Z
LAST-MODIFIED:20191016T205850Z
UID:10221-1571252400-1571257800@wiredwest.net
SUMMARY:WiredWest Board of Directors Meeting
DESCRIPTION:Download
URL:https://wiredwest.net/event/wiredwest-board-of-directors-meeting-20/
CATEGORIES:Board Meeting
END:VEVENT
END:VCALENDAR