BEGIN:VCALENDAR
VERSION:2.0
PRODID:-//WiredWest - ECPv6.15.20//NONSGML v1.0//EN
CALSCALE:GREGORIAN
METHOD:PUBLISH
X-WR-CALNAME:WiredWest
X-ORIGINAL-URL:https://wiredwest.net
X-WR-CALDESC:Events for WiredWest
REFRESH-INTERVAL;VALUE=DURATION:PT1H
X-Robots-Tag:noindex
X-PUBLISHED-TTL:PT1H
BEGIN:VTIMEZONE
TZID:America/New_York
BEGIN:DAYLIGHT
TZOFFSETFROM:-0500
TZOFFSETTO:-0400
TZNAME:EDT
DTSTART:20200308T070000
END:DAYLIGHT
BEGIN:STANDARD
TZOFFSETFROM:-0400
TZOFFSETTO:-0500
TZNAME:EST
DTSTART:20201101T060000
END:STANDARD
BEGIN:DAYLIGHT
TZOFFSETFROM:-0500
TZOFFSETTO:-0400
TZNAME:EDT
DTSTART:20210314T070000
END:DAYLIGHT
BEGIN:STANDARD
TZOFFSETFROM:-0400
TZOFFSETTO:-0500
TZNAME:EST
DTSTART:20211107T060000
END:STANDARD
BEGIN:DAYLIGHT
TZOFFSETFROM:-0500
TZOFFSETTO:-0400
TZNAME:EDT
DTSTART:20220313T070000
END:DAYLIGHT
BEGIN:STANDARD
TZOFFSETFROM:-0400
TZOFFSETTO:-0500
TZNAME:EST
DTSTART:20221106T060000
END:STANDARD
BEGIN:DAYLIGHT
TZOFFSETFROM:-0500
TZOFFSETTO:-0400
TZNAME:EDT
DTSTART:20230312T070000
END:DAYLIGHT
BEGIN:STANDARD
TZOFFSETFROM:-0400
TZOFFSETTO:-0500
TZNAME:EST
DTSTART:20231105T060000
END:STANDARD
END:VTIMEZONE
BEGIN:VEVENT
DTSTART;TZID=America/New_York:20220907T183000
DTEND;TZID=America/New_York:20220907T190000
DTSTAMP:20260425T072749
CREATED:20220721T152751Z
LAST-MODIFIED:20220905T132148Z
UID:11857-1662575400-1662577200@wiredwest.net
SUMMARY:WiredWest Executive Committee Meeting
DESCRIPTION:Download
URL:https://wiredwest.net/event/wiredwest-executive-committee-meeting-115/
LOCATION:EC Zoom
CATEGORIES:Executive Committee Meeting
END:VEVENT
BEGIN:VEVENT
DTSTART;TZID=America/New_York:20220817T183000
DTEND;TZID=America/New_York:20220817T200000
DTSTAMP:20260425T072749
CREATED:20220713T224846Z
LAST-MODIFIED:20220814T233536Z
UID:11848-1660761000-1660766400@wiredwest.net
SUMMARY:WiredWest Board of Directors Annual Meeting
DESCRIPTION:Download
URL:https://wiredwest.net/event/wiredwest-annual-board-of-directors-meeting/
LOCATION:Doug’s Zoom BoD
CATEGORIES:Board Meeting
END:VEVENT
BEGIN:VEVENT
DTSTART;TZID=America/New_York:20220720T183000
DTEND;TZID=America/New_York:20220720T200000
DTSTAMP:20260425T072749
CREATED:20220519T160555Z
LAST-MODIFIED:20220717T235706Z
UID:11798-1658341800-1658347200@wiredwest.net
SUMMARY:WiredWest Board of Directors Meeting
DESCRIPTION:Download
URL:https://wiredwest.net/event/wiredwest-board-of-directors-meeting-42/
LOCATION:Doug’s Zoom BoD
CATEGORIES:Board Meeting
END:VEVENT
BEGIN:VEVENT
DTSTART;TZID=America/New_York:20220706T183000
DTEND;TZID=America/New_York:20220706T193000
DTSTAMP:20260425T072749
CREATED:20220519T160424Z
LAST-MODIFIED:20220703T201101Z
UID:11796-1657132200-1657135800@wiredwest.net
SUMMARY:WiredWest Executive Committee Meeting
DESCRIPTION:Download
URL:https://wiredwest.net/event/wiredwest-executive-committee-meeting-114/
LOCATION:EC Zoom
CATEGORIES:Executive Committee Meeting
END:VEVENT
BEGIN:VEVENT
DTSTART;TZID=America/New_York:20220629T183000
DTEND;TZID=America/New_York:20220629T203000
DTSTAMP:20260425T072749
CREATED:20220616T125726Z
LAST-MODIFIED:20220627T213959Z
UID:11824-1656527400-1656534600@wiredwest.net
SUMMARY:WiredWest Board of Directors Meeting
DESCRIPTION:Download
URL:https://wiredwest.net/event/wiredwest-board-of-directors-meeting-44/
LOCATION:Doug’s Zoom BoD
CATEGORIES:Board Meeting
END:VEVENT
BEGIN:VEVENT
DTSTART;TZID=America/New_York:20220615T183000
DTEND;TZID=America/New_York:20220615T203000
DTSTAMP:20260425T072749
CREATED:20220404T231811Z
LAST-MODIFIED:20220615T143439Z
UID:11764-1655317800-1655325000@wiredwest.net
SUMMARY:WiredWest Board of Directors Meeting
DESCRIPTION:Download
URL:https://wiredwest.net/event/wiredwest-board-of-directors-meeting-41/
LOCATION:Doug’s Zoom BoD
CATEGORIES:Board Meeting
END:VEVENT
BEGIN:VEVENT
DTSTART;TZID=America/New_York:20220608T183000
DTEND;TZID=America/New_York:20220608T203000
DTSTAMP:20260425T072749
CREATED:20220602T154928Z
LAST-MODIFIED:20220603T124450Z
UID:11802-1654713000-1654720200@wiredwest.net
SUMMARY:WiredWest Board of Directors Meeting
DESCRIPTION:Download
URL:https://wiredwest.net/event/wiredwest-board-of-directors-meeting-43/
LOCATION:Doug’s Zoom BoD
CATEGORIES:Board Meeting
END:VEVENT
BEGIN:VEVENT
DTSTART;TZID=America/New_York:20220601T183000
DTEND;TZID=America/New_York:20220601T193000
DTSTAMP:20260425T072749
CREATED:20220404T230917Z
LAST-MODIFIED:20220531T100007Z
UID:11762-1654108200-1654111800@wiredwest.net
SUMMARY:WiredWest Executive Committee Meeting
DESCRIPTION:Download
URL:https://wiredwest.net/event/wiredwest-executive-committee-meeting-113/
LOCATION:EC Zoom
CATEGORIES:Executive Committee Meeting
END:VEVENT
BEGIN:VEVENT
DTSTART;TZID=America/New_York:20220518T183000
DTEND;TZID=America/New_York:20220518T200000
DTSTAMP:20260425T072749
CREATED:20220404T130559Z
LAST-MODIFIED:20220516T133234Z
UID:11756-1652898600-1652904000@wiredwest.net
SUMMARY:WiredWest Board of Directors Meeting
DESCRIPTION:Download
URL:https://wiredwest.net/event/wiredwest-board-of-directors-meeting-40/
LOCATION:Doug’s Zoom BoD
CATEGORIES:Board Meeting
END:VEVENT
BEGIN:VEVENT
DTSTART;TZID=America/New_York:20220504T183000
DTEND;TZID=America/New_York:20220504T193000
DTSTAMP:20260425T072749
CREATED:20220404T130313Z
LAST-MODIFIED:20220502T131641Z
UID:11754-1651689000-1651692600@wiredwest.net
SUMMARY:WiredWest Executive Committee Meeting
DESCRIPTION:Download
URL:https://wiredwest.net/event/wiredwest-executive-committee-meeting-112/
LOCATION:EC Zoom
CATEGORIES:Executive Committee Meeting
END:VEVENT
BEGIN:VEVENT
DTSTART;TZID=America/New_York:20220420T183000
DTEND;TZID=America/New_York:20220420T200000
DTSTAMP:20260425T072749
CREATED:20220307T164922Z
LAST-MODIFIED:20220418T140359Z
UID:11737-1650479400-1650484800@wiredwest.net
SUMMARY:WiredWest Board of Directors Meeting
DESCRIPTION:Download
URL:https://wiredwest.net/event/wiredwest-board-of-directors-meeting-39/
LOCATION:Doug’s Zoom BoD
CATEGORIES:Board Meeting
END:VEVENT
BEGIN:VEVENT
DTSTART;TZID=America/New_York:20220406T183000
DTEND;TZID=America/New_York:20220406T193000
DTSTAMP:20260425T072749
CREATED:20220307T164741Z
LAST-MODIFIED:20220404T205958Z
UID:11735-1649269800-1649273400@wiredwest.net
SUMMARY:WiredWest Executive Committee Meeting
DESCRIPTION:Download
URL:https://wiredwest.net/event/wiredwest-executive-committee-meeting-111/
LOCATION:EC Zoom
CATEGORIES:Executive Committee Meeting
END:VEVENT
BEGIN:VEVENT
DTSTART;TZID=America/New_York:20220404T170832
DTEND;TZID=America/New_York:20220404T170832
DTSTAMP:20260425T072749
CREATED:20200619T224830Z
LAST-MODIFIED:20200619T224830Z
UID:11144-1649092112-1649092112@wiredwest.net
SUMMARY:WiredWest Board of Directors Meeting
DESCRIPTION:
URL:https://wiredwest.net/event/wiredwest-board-of-directors-meeting-30/
END:VEVENT
BEGIN:VEVENT
DTSTART;TZID=America/New_York:20220316T183000
DTEND;TZID=America/New_York:20220316T200000
DTSTAMP:20260425T072749
CREATED:20220203T221030Z
LAST-MODIFIED:20220313T214529Z
UID:11717-1647455400-1647460800@wiredwest.net
SUMMARY:WiredWest Board of Directors Meeting
DESCRIPTION:Loading...\n						\n					\n					\n						\n							\n							Taking too long?\n						\n						\n							\n								 Reload document							\n							|\n							\n								 Open in new tab							\n					\n				\n			\n		Download
URL:https://wiredwest.net/event/wiredwest-board-of-directors-meeting-38/
LOCATION:Doug’s Zoom BoD
CATEGORIES:Board Meeting
END:VEVENT
BEGIN:VEVENT
DTSTART;TZID=America/New_York:20220302T183000
DTEND;TZID=America/New_York:20220302T190000
DTSTAMP:20260425T072749
CREATED:20220203T220840Z
LAST-MODIFIED:20220228T152056Z
UID:11715-1646245800-1646247600@wiredwest.net
SUMMARY:WiredWest Executive Committee Meeting
DESCRIPTION:Download
URL:https://wiredwest.net/event/wiredwest-executive-committee-meeting-110/
LOCATION:EC Zoom
CATEGORIES:Executive Committee Meeting
END:VEVENT
BEGIN:VEVENT
DTSTART;TZID=America/New_York:20220216T183000
DTEND;TZID=America/New_York:20220216T200000
DTSTAMP:20260425T072749
CREATED:20220102T205914Z
LAST-MODIFIED:20220214T163904Z
UID:11697-1645036200-1645041600@wiredwest.net
SUMMARY:WiredWest Board of Directors Meeting
DESCRIPTION:Download
URL:https://wiredwest.net/event/wiredwest-board-of-directors-meeting-37/
LOCATION:Doug’s Zoom BoD
CATEGORIES:Board Meeting
END:VEVENT
BEGIN:VEVENT
DTSTART;TZID=America/New_York:20220202T183000
DTEND;TZID=America/New_York:20220202T193000
DTSTAMP:20260425T072749
CREATED:20220102T205830Z
LAST-MODIFIED:20220131T230147Z
UID:11695-1643826600-1643830200@wiredwest.net
SUMMARY:WiredWest Executive Committee Meeting
DESCRIPTION:Download
URL:https://wiredwest.net/event/wiredwest-executive-committee-meeting-109/
LOCATION:EC Zoom
CATEGORIES:Executive Committee Meeting
END:VEVENT
BEGIN:VEVENT
DTSTART;TZID=America/New_York:20220119T183000
DTEND;TZID=America/New_York:20220119T200000
DTSTAMP:20260425T072749
CREATED:20211130T215125Z
LAST-MODIFIED:20220116T172820Z
UID:11678-1642617000-1642622400@wiredwest.net
SUMMARY:WiredWest Board of Directors Meeting
DESCRIPTION:Download
URL:https://wiredwest.net/event/wiredwest-board-of-directors-meeting-36/
LOCATION:Doug’s Zoom BoD
CATEGORIES:Board Meeting
END:VEVENT
BEGIN:VEVENT
DTSTART;TZID=America/New_York:20220105T183000
DTEND;TZID=America/New_York:20220105T193000
DTSTAMP:20260425T072749
CREATED:20211130T214853Z
LAST-MODIFIED:20220102T210450Z
UID:11676-1641407400-1641411000@wiredwest.net
SUMMARY:WiredWest Executive Committee Meeting
DESCRIPTION:Download
URL:https://wiredwest.net/event/wiredwest-executive-committee-meeting-107/
LOCATION:EC Zoom
CATEGORIES:Executive Committee Meeting
END:VEVENT
BEGIN:VEVENT
DTSTART;TZID=America/New_York:20211215T183000
DTEND;TZID=America/New_York:20211215T200000
DTSTAMP:20260425T072749
CREATED:20211111T230436Z
LAST-MODIFIED:20211213T143158Z
UID:11648-1639593000-1639598400@wiredwest.net
SUMMARY:WiredWest Board of Directors Meeting
DESCRIPTION:Download
URL:https://wiredwest.net/event/wiredwest-board-of-directors-meeting-35/
LOCATION:Doug’s Zoom BoD
CATEGORIES:Board Meeting
END:VEVENT
BEGIN:VEVENT
DTSTART;TZID=America/New_York:20211201T183000
DTEND;TZID=America/New_York:20211201T190000
DTSTAMP:20260425T072749
CREATED:20211128T151107Z
LAST-MODIFIED:20211130T201610Z
UID:11667-1638383400-1638385200@wiredwest.net
SUMMARY:WiredWest Executive Committee Meeting
DESCRIPTION:Download  Download
URL:https://wiredwest.net/event/wiredwest-executive-committee-meeting-108/
LOCATION:EC Zoom
CATEGORIES:Executive Committee Meeting
END:VEVENT
BEGIN:VEVENT
DTSTART;TZID=America/New_York:20211117T183000
DTEND;TZID=America/New_York:20211117T200000
DTSTAMP:20260425T072749
CREATED:20210908T120313Z
LAST-MODIFIED:20211115T212159Z
UID:11610-1637173800-1637179200@wiredwest.net
SUMMARY:WiredWest Board of Directors Meeting
DESCRIPTION:Download
URL:https://wiredwest.net/event/wiredwest-board-of-directors-meeting-34/
LOCATION:Doug’s Zoom BoD
CATEGORIES:Board Meeting
END:VEVENT
BEGIN:VEVENT
DTSTART;TZID=America/New_York:20211103T183000
DTEND;TZID=America/New_York:20211103T200000
DTSTAMP:20260425T072750
CREATED:20211026T211529Z
LAST-MODIFIED:20211103T202437Z
UID:11637-1635964200-1635969600@wiredwest.net
SUMMARY:Wired West Special Board meeting
DESCRIPTION:Download
URL:https://wiredwest.net/event/wired-west-special-board-meeting/
LOCATION:One Time
END:VEVENT
BEGIN:VEVENT
DTSTART;TZID=America/New_York:20211020T183000
DTEND;TZID=America/New_York:20211020T200000
DTSTAMP:20260425T072750
CREATED:20210908T120109Z
LAST-MODIFIED:20211018T134456Z
UID:11608-1634754600-1634760000@wiredwest.net
SUMMARY:WiredWest Board of Directors Meeting
DESCRIPTION:Download
URL:https://wiredwest.net/event/wiredwest-board-of-directors-meeting-33/
LOCATION:Doug’s Zoom BoD
CATEGORIES:Board Meeting
END:VEVENT
BEGIN:VEVENT
DTSTART;TZID=America/New_York:20210915T183000
DTEND;TZID=America/New_York:20210915T203000
DTSTAMP:20260425T072750
CREATED:20210719T202802Z
LAST-MODIFIED:20210911T133645Z
UID:11557-1631730600-1631737800@wiredwest.net
SUMMARY:WiredWest Board of Directors Meeting (online)
DESCRIPTION:Download
URL:https://wiredwest.net/event/wiredwest-board-of-directors-meeting-online-14/
LOCATION:Doug’s Zoom BoD
CATEGORIES:Board Meeting
END:VEVENT
BEGIN:VEVENT
DTSTART;TZID=America/New_York:20210901T183000
DTEND;TZID=America/New_York:20210901T193000
DTSTAMP:20260425T072750
CREATED:20210810T185340Z
LAST-MODIFIED:20210824T225410Z
UID:11581-1630521000-1630524600@wiredwest.net
SUMMARY:Special WiredWest Board of Directors and Executive Committee Meeting (online)
DESCRIPTION:Download
URL:https://wiredwest.net/event/wiredwest-executive-committee-meeting-online-9/
LOCATION:One Time
CATEGORIES:Board Meeting,Executive Committee Meeting
END:VEVENT
BEGIN:VEVENT
DTSTART;TZID=America/New_York:20210818T183000
DTEND;TZID=America/New_York:20210818T203000
DTSTAMP:20260425T072750
CREATED:20210719T202641Z
LAST-MODIFIED:20210816T181413Z
UID:11554-1629311400-1629318600@wiredwest.net
SUMMARY:WiredWest Board of Directors Meeting (online)
DESCRIPTION:Download
URL:https://wiredwest.net/event/wiredwest-board-of-directors-meeting-online-13/
LOCATION:Doug’s Zoom BoD
CATEGORIES:Board Meeting
END:VEVENT
BEGIN:VEVENT
DTSTART;TZID=America/New_York:20210804T183000
DTEND;TZID=America/New_York:20210804T190000
DTSTAMP:20260425T072750
CREATED:20210801T161218Z
LAST-MODIFIED:20210810T185145Z
UID:11560-1628101800-1628103600@wiredwest.net
SUMMARY:WiredWest Executive Committee Meeting (online)
DESCRIPTION:Download
URL:https://wiredwest.net/event/wiredwest-executive-committee-meeting-online-8/
LOCATION:EC Zoom
CATEGORIES:Executive Committee Meeting
END:VEVENT
BEGIN:VEVENT
DTSTART;TZID=America/New_York:20210721T183000
DTEND;TZID=America/New_York:20210721T200000
DTSTAMP:20260425T072750
CREATED:20210517T183416Z
LAST-MODIFIED:20210719T202428Z
UID:11456-1626892200-1626897600@wiredwest.net
SUMMARY:WiredWest Board of Directors Meeting (online)
DESCRIPTION:Download
URL:https://wiredwest.net/event/wiredwest-board-of-directors-meeting-online-11/
LOCATION:Doug’s Zoom BoD
CATEGORIES:Board Meeting
END:VEVENT
BEGIN:VEVENT
DTSTART;TZID=America/New_York:20210714T183000
DTEND;TZID=America/New_York:20210714T193000
DTSTAMP:20260425T072750
CREATED:20210708T172320Z
LAST-MODIFIED:20210708T172844Z
UID:11540-1626287400-1626291000@wiredwest.net
SUMMARY:WiredWest Special Board of Directors Meeting
DESCRIPTION:Download
URL:https://wiredwest.net/event/wiredwest-special-board-of-directors-meeting-2/
LOCATION:One Time
CATEGORIES:Board Meeting
END:VEVENT
END:VCALENDAR