BEGIN:VCALENDAR
VERSION:2.0
PRODID:-//WiredWest - ECPv6.15.20//NONSGML v1.0//EN
CALSCALE:GREGORIAN
METHOD:PUBLISH
X-WR-CALNAME:WiredWest
X-ORIGINAL-URL:https://wiredwest.net
X-WR-CALDESC:Events for WiredWest
REFRESH-INTERVAL;VALUE=DURATION:PT1H
X-Robots-Tag:noindex
X-PUBLISHED-TTL:PT1H
BEGIN:VTIMEZONE
TZID:America/New_York
BEGIN:DAYLIGHT
TZOFFSETFROM:-0500
TZOFFSETTO:-0400
TZNAME:EDT
DTSTART:20150308T070000
END:DAYLIGHT
BEGIN:STANDARD
TZOFFSETFROM:-0400
TZOFFSETTO:-0500
TZNAME:EST
DTSTART:20151101T060000
END:STANDARD
BEGIN:DAYLIGHT
TZOFFSETFROM:-0500
TZOFFSETTO:-0400
TZNAME:EDT
DTSTART:20160313T070000
END:DAYLIGHT
BEGIN:STANDARD
TZOFFSETFROM:-0400
TZOFFSETTO:-0500
TZNAME:EST
DTSTART:20161106T060000
END:STANDARD
BEGIN:DAYLIGHT
TZOFFSETFROM:-0500
TZOFFSETTO:-0400
TZNAME:EDT
DTSTART:20170312T070000
END:DAYLIGHT
BEGIN:STANDARD
TZOFFSETFROM:-0400
TZOFFSETTO:-0500
TZNAME:EST
DTSTART:20171105T060000
END:STANDARD
END:VTIMEZONE
BEGIN:VEVENT
DTSTART;TZID=America/New_York:20160511T100000
DTEND;TZID=America/New_York:20160511T110000
DTSTAMP:20260425T105731
CREATED:20160511T035017Z
LAST-MODIFIED:20160511T140411Z
UID:5079-1462960800-1462964400@wiredwest.net
SUMMARY:WiredWest Plan A2 Task Force
DESCRIPTION:Hampshire Council of Governments\, 99 Main St.\, Northampton\, MA \n			\n				\n					\n						\n							\n							Loading...\n						\n					\n					\n						\n							\n							Taking too long?\n						\n						\n							\n								 Reload document							\n							|\n							\n								 Open in new tab							\n					\n				\n			\n		Download
URL:https://wiredwest.net/event/wiredwest-plan-a2-task-force-2/
CATEGORIES:Plan A2 Task Force
END:VEVENT
BEGIN:VEVENT
DTSTART;TZID=America/New_York:20160509T180000
DTEND;TZID=America/New_York:20160509T190000
DTSTAMP:20260425T105731
CREATED:20160511T034519Z
LAST-MODIFIED:20160511T140124Z
UID:5077-1462816800-1462820400@wiredwest.net
SUMMARY:WiredWest Executive Committee Meeting
DESCRIPTION:The Old Courthouse\, 99 Main Street\, Northampton\, MA \n			\n				\n					\n						\n							\n							Loading...\n						\n					\n					\n						\n							\n							Taking too long?\n						\n						\n							\n								 Reload document							\n							|\n							\n								 Open in new tab							\n					\n				\n			\n		Download
URL:https://wiredwest.net/event/wiredwest-executive-committee-meeting/
CATEGORIES:Executive Committee Meeting
END:VEVENT
BEGIN:VEVENT
DTSTART;TZID=America/New_York:20160507T093000
DTEND;TZID=America/New_York:20160507T110000
DTSTAMP:20260425T105731
CREATED:20160511T034322Z
LAST-MODIFIED:20160511T135921Z
UID:5076-1462613400-1462618800@wiredwest.net
SUMMARY:WiredWest Plan A2 Task Force
DESCRIPTION:Hampshire Council of Governments \n			\n				\n					\n						\n							\n							Loading...\n						\n					\n					\n						\n							\n							Taking too long?\n						\n						\n							\n								 Reload document							\n							|\n							\n								 Open in new tab							\n					\n				\n			\n		Download
URL:https://wiredwest.net/event/wiredwest-plan-a2-task-force/
CATEGORIES:Plan A2 Task Force
END:VEVENT
BEGIN:VEVENT
DTSTART;TZID=America/New_York:20160504T180000
DTEND;TZID=America/New_York:20160504T193000
DTSTAMP:20260425T105731
CREATED:20160511T033950Z
LAST-MODIFIED:20160511T140238Z
UID:5075-1462384800-1462390200@wiredwest.net
SUMMARY:Outreach Committee Meeting
DESCRIPTION:Hampshire County of Governments\, Northampton \n			\n				\n					\n						\n							\n							Loading...\n						\n					\n					\n						\n							\n							Taking too long?\n						\n						\n							\n								 Reload document							\n							|\n							\n								 Open in new tab							\n					\n				\n			\n		Download
URL:https://wiredwest.net/event/outreach-committee-meeting/
CATEGORIES:Outreach Committee Meeting
END:VEVENT
BEGIN:VEVENT
DTSTART;TZID=America/New_York:20160430T093000
DTEND;TZID=America/New_York:20160430T120000
DTSTAMP:20260425T105731
CREATED:20160511T033149Z
LAST-MODIFIED:20160511T033720Z
UID:5071-1462008600-1462017600@wiredwest.net
SUMMARY:WiredWest Board Meeting
DESCRIPTION:Agenda
URL:https://wiredwest.net/event/wiredwest-board-meeting/
CATEGORIES:Board Meeting
END:VEVENT
END:VCALENDAR