BEGIN:VCALENDAR
VERSION:2.0
PRODID:-//WiredWest - ECPv6.15.20//NONSGML v1.0//EN
CALSCALE:GREGORIAN
METHOD:PUBLISH
X-WR-CALNAME:WiredWest
X-ORIGINAL-URL:https://wiredwest.net
X-WR-CALDESC:Events for WiredWest
REFRESH-INTERVAL;VALUE=DURATION:PT1H
X-Robots-Tag:noindex
X-PUBLISHED-TTL:PT1H
BEGIN:VTIMEZONE
TZID:America/New_York
BEGIN:DAYLIGHT
TZOFFSETFROM:-0500
TZOFFSETTO:-0400
TZNAME:EDT
DTSTART:20230312T070000
END:DAYLIGHT
BEGIN:STANDARD
TZOFFSETFROM:-0400
TZOFFSETTO:-0500
TZNAME:EST
DTSTART:20231105T060000
END:STANDARD
BEGIN:DAYLIGHT
TZOFFSETFROM:-0500
TZOFFSETTO:-0400
TZNAME:EDT
DTSTART:20240310T070000
END:DAYLIGHT
BEGIN:STANDARD
TZOFFSETFROM:-0400
TZOFFSETTO:-0500
TZNAME:EST
DTSTART:20241103T060000
END:STANDARD
BEGIN:DAYLIGHT
TZOFFSETFROM:-0500
TZOFFSETTO:-0400
TZNAME:EDT
DTSTART:20250309T070000
END:DAYLIGHT
BEGIN:STANDARD
TZOFFSETFROM:-0400
TZOFFSETTO:-0500
TZNAME:EST
DTSTART:20251102T060000
END:STANDARD
BEGIN:DAYLIGHT
TZOFFSETFROM:-0500
TZOFFSETTO:-0400
TZNAME:EDT
DTSTART:20260308T070000
END:DAYLIGHT
BEGIN:STANDARD
TZOFFSETFROM:-0400
TZOFFSETTO:-0500
TZNAME:EST
DTSTART:20261101T060000
END:STANDARD
END:VTIMEZONE
BEGIN:VEVENT
DTSTART;TZID=America/New_York:20250618T190000
DTEND;TZID=America/New_York:20250618T200000
DTSTAMP:20260423T202540
CREATED:20250330T194943Z
LAST-MODIFIED:20250616T131617Z
UID:12789-1750273200-1750276800@wiredwest.net
SUMMARY:WiredWest Board of Directors Meeting
DESCRIPTION:Download [33.17 KB]
URL:https://wiredwest.net/event/wiredwest-board-of-directors-meeting-99/
LOCATION:WW Meetings 2024-2025
CATEGORIES:Board Meeting
END:VEVENT
BEGIN:VEVENT
DTSTART;TZID=America/New_York:20250604T190000
DTEND;TZID=America/New_York:20250604T200000
DTSTAMP:20260423T202540
CREATED:20250330T194855Z
LAST-MODIFIED:20250602T142109Z
UID:12787-1749063600-1749067200@wiredwest.net
SUMMARY:WiredWest Board of Directors Meeting
DESCRIPTION:Download [32.99 KB]
URL:https://wiredwest.net/event/wiredwest-board-of-directors-meeting-98/
LOCATION:WW Meetings 2024-2025
CATEGORIES:Board Meeting
END:VEVENT
BEGIN:VEVENT
DTSTART;TZID=America/New_York:20250521T183000
DTEND;TZID=America/New_York:20250521T200000
DTSTAMP:20260423T202540
CREATED:20250330T194723Z
LAST-MODIFIED:20250519T013408Z
UID:12785-1747852200-1747857600@wiredwest.net
SUMMARY:WiredWest Board of Directors Meeting
DESCRIPTION:Download [33.54 KB]
URL:https://wiredwest.net/event/wiredwest-board-of-directors-meeting-97/
LOCATION:WW Meetings 2024-2025
CATEGORIES:Board Meeting
END:VEVENT
BEGIN:VEVENT
DTSTART;TZID=America/New_York:20250506T183000
DTEND;TZID=America/New_York:20250506T193000
DTSTAMP:20260423T202540
CREATED:20250330T194557Z
LAST-MODIFIED:20250503T175050Z
UID:12783-1746556200-1746559800@wiredwest.net
SUMMARY:WiredWest Board of Directors Meeting
DESCRIPTION:Note day has changed to Tuesday for this meeting only \nDownload [32.99 KB]
URL:https://wiredwest.net/event/wiredwest-board-of-directors-meeting-96/
LOCATION:WW Meetings 2024-2025
CATEGORIES:Board Meeting
END:VEVENT
BEGIN:VEVENT
DTSTART;TZID=America/New_York:20250416T183000
DTEND;TZID=America/New_York:20250416T200000
DTSTAMP:20260423T202541
CREATED:20250215T030916Z
LAST-MODIFIED:20250413T192456Z
UID:12732-1744828200-1744833600@wiredwest.net
SUMMARY:WiredWest Board of Directors Meeting
DESCRIPTION:Download [33.40 KB]
URL:https://wiredwest.net/event/wiredwest-board-of-directors-meeting-95/
LOCATION:WW Meetings 2024-2025
CATEGORIES:Board Meeting
END:VEVENT
BEGIN:VEVENT
DTSTART;TZID=America/New_York:20250402T180000
DTEND;TZID=America/New_York:20250402T193000
DTSTAMP:20260423T202541
CREATED:20250215T030743Z
LAST-MODIFIED:20250330T195411Z
UID:12724-1743616800-1743622200@wiredwest.net
SUMMARY:WiredWest Board of Directors Meeting
DESCRIPTION:Download [33.07 KB]
URL:https://wiredwest.net/event/wiredwest-board-of-directors-meeting-94/
LOCATION:WW Meetings 2024-2025
CATEGORIES:Board Meeting
END:VEVENT
BEGIN:VEVENT
DTSTART;TZID=America/New_York:20250319T183000
DTEND;TZID=America/New_York:20250319T200000
DTSTAMP:20260423T202541
CREATED:20250119T145906Z
LAST-MODIFIED:20250316T201022Z
UID:12710-1742409000-1742414400@wiredwest.net
SUMMARY:WiredWest Board of Directors Meeting
DESCRIPTION:Download [33.51 KB]
URL:https://wiredwest.net/event/wiredwest-board-of-directors-meeting-93/
LOCATION:WW Meetings 2024-2025
CATEGORIES:Board Meeting
END:VEVENT
BEGIN:VEVENT
DTSTART;TZID=America/New_York:20250305T183000
DTEND;TZID=America/New_York:20250305T193000
DTSTAMP:20260423T202541
CREATED:20250119T145710Z
LAST-MODIFIED:20250302T163308Z
UID:12708-1741199400-1741203000@wiredwest.net
SUMMARY:WiredWest Board of Directors Meeting
DESCRIPTION:Download [33.25 KB]
URL:https://wiredwest.net/event/wiredwest-board-of-directors-meeting-92/
LOCATION:WW Meetings 2024-2025
CATEGORIES:Board Meeting
END:VEVENT
BEGIN:VEVENT
DTSTART;TZID=America/New_York:20250219T180000
DTEND;TZID=America/New_York:20250219T193000
DTSTAMP:20260423T202541
CREATED:20250105T205223Z
LAST-MODIFIED:20250215T031131Z
UID:12697-1739988000-1739993400@wiredwest.net
SUMMARY:WiredWest Board of Directors Meeting
DESCRIPTION:Download [33.06 KB]
URL:https://wiredwest.net/event/wiredwest-board-of-directors-meeting-91/
LOCATION:WW Meetings 2024-2025
CATEGORIES:Board Meeting
END:VEVENT
BEGIN:VEVENT
DTSTART;TZID=America/New_York:20250205T183000
DTEND;TZID=America/New_York:20250205T193000
DTSTAMP:20260423T202541
CREATED:20250105T205129Z
LAST-MODIFIED:20250203T223921Z
UID:12695-1738780200-1738783800@wiredwest.net
SUMMARY:WiredWest Board of Directors Meeting
DESCRIPTION:Download [32.76 KB]
URL:https://wiredwest.net/event/wiredwest-board-of-directors-meeting-90/
LOCATION:WW Meetings 2024-2025
CATEGORIES:Board Meeting
END:VEVENT
BEGIN:VEVENT
DTSTART;TZID=America/New_York:20250122T183000
DTEND;TZID=America/New_York:20250122T200000
DTSTAMP:20260423T202541
CREATED:20241115T145023Z
LAST-MODIFIED:20250119T145323Z
UID:12652-1737570600-1737576000@wiredwest.net
SUMMARY:WiredWest Board of Directors Meeting
DESCRIPTION:Download [32.88 KB]
URL:https://wiredwest.net/event/wiredwest-board-of-directors-meeting-89/
LOCATION:WW Meetings 2024-2025
CATEGORIES:Board Meeting
END:VEVENT
BEGIN:VEVENT
DTSTART;TZID=America/New_York:20250108T063000
DTEND;TZID=America/New_York:20250108T193000
DTSTAMP:20260423T202541
CREATED:20241115T144936Z
LAST-MODIFIED:20250105T204921Z
UID:12649-1736317800-1736364600@wiredwest.net
SUMMARY:WiredWest Board of Directors Meeting
DESCRIPTION:Download [32.52 KB]
URL:https://wiredwest.net/event/wiredwest-board-of-directors-meeting-88/
LOCATION:WW Meetings 2024-2025
CATEGORIES:Board Meeting
END:VEVENT
BEGIN:VEVENT
DTSTART;TZID=America/New_York:20241218T183000
DTEND;TZID=America/New_York:20241218T193000
DTSTAMP:20260423T202541
CREATED:20241101T215600Z
LAST-MODIFIED:20241213T223541Z
UID:12644-1734546600-1734550200@wiredwest.net
SUMMARY:WiredWest Board of Directors Meeting
DESCRIPTION:Download [32.84 KB]
URL:https://wiredwest.net/event/wiredwest-board-of-directors-meeting-87/
LOCATION:WW Meetings 2024-2025
CATEGORIES:Board Meeting
END:VEVENT
BEGIN:VEVENT
DTSTART;TZID=America/New_York:20241204T183000
DTEND;TZID=America/New_York:20241204T193000
DTSTAMP:20260423T202541
CREATED:20241101T215339Z
LAST-MODIFIED:20241201T215636Z
UID:12642-1733337000-1733340600@wiredwest.net
SUMMARY:WiredWest Board of Directors Meeting
DESCRIPTION:Download [32.78 KB]
URL:https://wiredwest.net/event/wiredwest-board-of-directors-meeting-86/
LOCATION:WW Meetings 2024-2025
CATEGORIES:Board Meeting
END:VEVENT
BEGIN:VEVENT
DTSTART;TZID=America/New_York:20241120T183000
DTEND;TZID=America/New_York:20241120T193000
DTSTAMP:20260423T202541
CREATED:20240919T191036Z
LAST-MODIFIED:20241117T151004Z
UID:12627-1732127400-1732131000@wiredwest.net
SUMMARY:WiredWest Board of Directors Meeting
DESCRIPTION:Download [32.70 KB]
URL:https://wiredwest.net/event/wiredwest-board-of-directors-meeting-85/
LOCATION:WW Meetings 2024-2025
CATEGORIES:Board Meeting
END:VEVENT
BEGIN:VEVENT
DTSTART;TZID=America/New_York:20241106T183000
DTEND;TZID=America/New_York:20241106T190000
DTSTAMP:20260423T202541
CREATED:20240919T190930Z
LAST-MODIFIED:20241101T215844Z
UID:12625-1730917800-1730919600@wiredwest.net
SUMMARY:WiredWest Board of Directors Meeting
DESCRIPTION:Download [32.79 KB]
URL:https://wiredwest.net/event/wiredwest-board-of-directors-meeting-84/
LOCATION:WW Meetings 2024-2025
CATEGORIES:Board Meeting
END:VEVENT
BEGIN:VEVENT
DTSTART;TZID=America/New_York:20241016T183000
DTEND;TZID=America/New_York:20241016T200000
DTSTAMP:20260423T202541
CREATED:20240818T141619Z
LAST-MODIFIED:20241012T151536Z
UID:12583-1729103400-1729108800@wiredwest.net
SUMMARY:WiredWest Board of Directors Meeting
DESCRIPTION:Download [32.43 KB]
URL:https://wiredwest.net/event/wiredwest-board-of-directors-meeting-83/
LOCATION:WW Meetings 2024-2025
CATEGORIES:Board Meeting
END:VEVENT
BEGIN:VEVENT
DTSTART;TZID=America/New_York:20241002T183000
DTEND;TZID=America/New_York:20241002T193000
DTSTAMP:20260423T202541
CREATED:20240818T141515Z
LAST-MODIFIED:20240930T031056Z
UID:12581-1727893800-1727897400@wiredwest.net
SUMMARY:WiredWest Board of Directors Meeting
DESCRIPTION:Download [32.01 KB]
URL:https://wiredwest.net/event/wiredwest-board-of-directors-meeting-82/
LOCATION:WW Meetings 2024-2025
CATEGORIES:Board Meeting
END:VEVENT
BEGIN:VEVENT
DTSTART;TZID=America/New_York:20240918T183000
DTEND;TZID=America/New_York:20240918T203000
DTSTAMP:20260423T202541
CREATED:20240719T005326Z
LAST-MODIFIED:20240915T230716Z
UID:12566-1726684200-1726691400@wiredwest.net
SUMMARY:WiredWest Board of Directors Meeting
DESCRIPTION:Download [32.31 KB]
URL:https://wiredwest.net/event/wiredwest-board-of-directors-meeting-81/
LOCATION:WW Meetings 2024-2025
CATEGORIES:Board Meeting
END:VEVENT
BEGIN:VEVENT
DTSTART;TZID=America/New_York:20240904T183000
DTEND;TZID=America/New_York:20240904T190000
DTSTAMP:20260423T202541
CREATED:20240719T005018Z
LAST-MODIFIED:20240830T172407Z
UID:12564-1725474600-1725476400@wiredwest.net
SUMMARY:WiredWest Board of Directors Meeting
DESCRIPTION:Download [31.96 KB]
URL:https://wiredwest.net/event/wiredwest-board-of-directors-meeting-80/
LOCATION:WW Meetings 2024-2025
CATEGORIES:Board Meeting
END:VEVENT
BEGIN:VEVENT
DTSTART;TZID=America/New_York:20240821T190000
DTEND;TZID=America/New_York:20240821T203000
DTSTAMP:20260423T202541
CREATED:20240607T161429Z
LAST-MODIFIED:20240818T141004Z
UID:12527-1724266800-1724272200@wiredwest.net
SUMMARY:WiredWest Board of Directors Meeting
DESCRIPTION:Download [32.46 KB]
URL:https://wiredwest.net/event/wiredwest-board-of-directors-meeting-79/
LOCATION:WW Meetings 2024-2025
CATEGORIES:Board Meeting
END:VEVENT
BEGIN:VEVENT
DTSTART;TZID=America/New_York:20240807T183000
DTEND;TZID=America/New_York:20240807T190000
DTSTAMP:20260423T202541
CREATED:20240607T161338Z
LAST-MODIFIED:20240804T220741Z
UID:12525-1723055400-1723057200@wiredwest.net
SUMMARY:WiredWest Board of Directors Meeting
DESCRIPTION:Download [32.02 KB]
URL:https://wiredwest.net/event/wiredwest-board-of-directors-meeting-78/
LOCATION:WW Meetings 2024-2025
CATEGORIES:Board Meeting
END:VEVENT
BEGIN:VEVENT
DTSTART;TZID=America/New_York:20240717T183000
DTEND;TZID=America/New_York:20240717T200000
DTSTAMP:20260423T202541
CREATED:20240607T161159Z
LAST-MODIFIED:20240715T192054Z
UID:12523-1721241000-1721246400@wiredwest.net
SUMMARY:WiredWest Board of Directors Meeting
DESCRIPTION:Download [31.97 KB]
URL:https://wiredwest.net/event/wiredwest-board-of-directors-meeting-77/
LOCATION:WW Meetings 2024-2025
CATEGORIES:Board Meeting
END:VEVENT
BEGIN:VEVENT
DTSTART;TZID=America/New_York:20240703T183000
DTEND;TZID=America/New_York:20240703T190000
DTSTAMP:20260423T202541
CREATED:20240607T161057Z
LAST-MODIFIED:20240630T215049Z
UID:12521-1720031400-1720033200@wiredwest.net
SUMMARY:WiredWest Board of Directors Meeting
DESCRIPTION:Download [30.52 KB]
URL:https://wiredwest.net/event/wiredwest-board-of-directors-meeting-76/
LOCATION:WW Meetings 2024-2025
CATEGORIES:Board Meeting
END:VEVENT
BEGIN:VEVENT
DTSTART;TZID=America/New_York:20240619T183000
DTEND;TZID=America/New_York:20240619T200000
DTSTAMP:20260423T202541
CREATED:20240428T201956Z
LAST-MODIFIED:20240616T234946Z
UID:12495-1718821800-1718827200@wiredwest.net
SUMMARY:WiredWest Board of Directors Meeting
DESCRIPTION:Download [35.17 KB]
URL:https://wiredwest.net/event/wiredwest-board-of-directors-meeting-75/
LOCATION:WW Meetings 2024-2025
CATEGORIES:Board Meeting
END:VEVENT
BEGIN:VEVENT
DTSTART;TZID=America/New_York:20240605T190000
DTEND;TZID=America/New_York:20240605T193000
DTSTAMP:20260423T202541
CREATED:20240428T201838Z
LAST-MODIFIED:20240531T171402Z
UID:12493-1717614000-1717615800@wiredwest.net
SUMMARY:WiredWest Board of Directors Meeting
DESCRIPTION:Download [34.93 KB]
URL:https://wiredwest.net/event/wiredwest-board-of-directors-meeting-74/
LOCATION:WW Meetings 2024-2025
CATEGORIES:Board Meeting
END:VEVENT
BEGIN:VEVENT
DTSTART;TZID=America/New_York:20240515T183000
DTEND;TZID=America/New_York:20240515T200000
DTSTAMP:20260423T202541
CREATED:20240329T192436Z
LAST-MODIFIED:20240512T141130Z
UID:12451-1715797800-1715803200@wiredwest.net
SUMMARY:Wired West Board of Directors Meeting
DESCRIPTION:Download [35.27 KB]
URL:https://wiredwest.net/event/wired-west-board-of-directors-meeting-2/
LOCATION:WW Meetings 2024-2025
CATEGORIES:Board Meeting
END:VEVENT
BEGIN:VEVENT
DTSTART;TZID=America/New_York:20240501T183000
DTEND;TZID=America/New_York:20240501T190000
DTSTAMP:20260423T202541
CREATED:20240329T192307Z
LAST-MODIFIED:20240428T202546Z
UID:12449-1714588200-1714590000@wiredwest.net
SUMMARY:Wired West Board of Directors Meeting
DESCRIPTION:Download [35.09 KB]
URL:https://wiredwest.net/event/wired-west-board-of-directors-meeting/
LOCATION:WW Meetings 2024-2025
CATEGORIES:Board Meeting
END:VEVENT
BEGIN:VEVENT
DTSTART;TZID=America/New_York:20240417T183000
DTEND;TZID=America/New_York:20240417T203000
DTSTAMP:20260423T202541
CREATED:20240216T164905Z
LAST-MODIFIED:20240414T233713Z
UID:12408-1713378600-1713385800@wiredwest.net
SUMMARY:WiredWest Board of Directors Meeting
DESCRIPTION:Download [36.09 KB]
URL:https://wiredwest.net/event/wiredwest-board-of-directors-meeting-72/
LOCATION:WW Meetings 2024-2025
CATEGORIES:Board Meeting
END:VEVENT
BEGIN:VEVENT
DTSTART;TZID=America/New_York:20240409T183000
DTEND;TZID=America/New_York:20240409T190000
DTSTAMP:20260423T202541
CREATED:20240404T000111Z
LAST-MODIFIED:20240405T160535Z
UID:12462-1712687400-1712689200@wiredwest.net
SUMMARY:WiredWest Board of Directors Meeting
DESCRIPTION:Download [35.09 KB]
URL:https://wiredwest.net/event/wiredwest-board-of-directors-meeting-73/
LOCATION:WW Meetings 2024-2025
CATEGORIES:Board Meeting
END:VEVENT
END:VCALENDAR