BEGIN:VCALENDAR
VERSION:2.0
PRODID:-//WiredWest - ECPv6.15.20//NONSGML v1.0//EN
CALSCALE:GREGORIAN
METHOD:PUBLISH
X-WR-CALNAME:WiredWest
X-ORIGINAL-URL:https://wiredwest.net
X-WR-CALDESC:Events for WiredWest
REFRESH-INTERVAL;VALUE=DURATION:PT1H
X-Robots-Tag:noindex
X-PUBLISHED-TTL:PT1H
BEGIN:VTIMEZONE
TZID:America/New_York
BEGIN:DAYLIGHT
TZOFFSETFROM:-0500
TZOFFSETTO:-0400
TZNAME:EDT
DTSTART:20150308T070000
END:DAYLIGHT
BEGIN:STANDARD
TZOFFSETFROM:-0400
TZOFFSETTO:-0500
TZNAME:EST
DTSTART:20151101T060000
END:STANDARD
BEGIN:DAYLIGHT
TZOFFSETFROM:-0500
TZOFFSETTO:-0400
TZNAME:EDT
DTSTART:20160313T070000
END:DAYLIGHT
BEGIN:STANDARD
TZOFFSETFROM:-0400
TZOFFSETTO:-0500
TZNAME:EST
DTSTART:20161106T060000
END:STANDARD
BEGIN:DAYLIGHT
TZOFFSETFROM:-0500
TZOFFSETTO:-0400
TZNAME:EDT
DTSTART:20170312T070000
END:DAYLIGHT
BEGIN:STANDARD
TZOFFSETFROM:-0400
TZOFFSETTO:-0500
TZNAME:EST
DTSTART:20171105T060000
END:STANDARD
BEGIN:DAYLIGHT
TZOFFSETFROM:-0500
TZOFFSETTO:-0400
TZNAME:EDT
DTSTART:20180311T070000
END:DAYLIGHT
BEGIN:STANDARD
TZOFFSETFROM:-0400
TZOFFSETTO:-0500
TZNAME:EST
DTSTART:20181104T060000
END:STANDARD
END:VTIMEZONE
BEGIN:VEVENT
DTSTART;TZID=America/New_York:20170104T180000
DTEND;TZID=America/New_York:20170104T200000
DTSTAMP:20260425T062538
CREATED:20161229T140144Z
LAST-MODIFIED:20170104T200118Z
UID:6390-1483552800-1483560000@wiredwest.net
SUMMARY:WiredWest Executive Committee Meeting
DESCRIPTION:Download
URL:https://wiredwest.net/event/wiredwest-executive-committee-meeting-28/
CATEGORIES:Executive Committee Meeting
END:VEVENT
BEGIN:VEVENT
DTSTART;TZID=America/New_York:20161228T180000
DTEND;TZID=America/New_York:20161228T193000
DTSTAMP:20260425T062538
CREATED:20161218T231005Z
LAST-MODIFIED:20161223T225345Z
UID:6367-1482948000-1482953400@wiredwest.net
SUMMARY:WiredWest Executive Committee Meeting
DESCRIPTION:Posted 12/18/16 6:10 pm; agenda added 12/23/16 5:55 pm \nDownload
URL:https://wiredwest.net/event/wiredwest-executive-committee-meeting-27/
CATEGORIES:Executive Committee Meeting
END:VEVENT
BEGIN:VEVENT
DTSTART;TZID=America/New_York:20161228T073000
DTEND;TZID=America/New_York:20161228T210000
DTSTAMP:20260425T062538
CREATED:20161223T144107Z
LAST-MODIFIED:20161226T134938Z
UID:6383-1482910200-1482958800@wiredwest.net
SUMMARY:WiredWest Outreach Committee Meeting
DESCRIPTION:At Hampshire Council of Governments\, the Courthouse\, Northampton\, MA. \nAgenda \n\n\n\nApprove minutes from October 16 meeting \nCommunications Strategy \n\n\n\n\nOverall Communications strategy\nMessage to town officials\nMessage to subscribers\nWebsite\n\n\n\n\nOther business – (Items that could not be reasonably foreseen within 48 hours of meeting) \n\n\n\nSchedule next meeting
URL:https://wiredwest.net/event/wiredwest-outreach-committee-meeting-2/
END:VEVENT
BEGIN:VEVENT
DTSTART;TZID=America/New_York:20161221T180000
DTEND;TZID=America/New_York:20161221T200000
DTSTAMP:20260425T062538
CREATED:20161214T201519Z
LAST-MODIFIED:20161217T043102Z
UID:6189-1482343200-1482350400@wiredwest.net
SUMMARY:WiredWest Board of Directors Meeting
DESCRIPTION:at Hampshire Council of Governments\, The Northampton Courthouse \nUpdated December 14\, 2016 \nDue to snow expected on the 17th\, the meeting will be held to 6:00pm Dec 21 at Hampshire Council of Governments in Northampton. \n			\n				\n					\n						\n							\n							Loading...\n						\n					\n					\n						\n							\n							Taking too long?\n						\n						\n							\n								 Reload document							\n							|\n							\n								 Open in new tab							\n					\n				\n			\n		Download
URL:https://wiredwest.net/event/wiredwest-board-directors-meeting-7/
CATEGORIES:Board Meeting
END:VEVENT
BEGIN:VEVENT
DTSTART;TZID=America/New_York:20161214T180000
DTEND;TZID=America/New_York:20161214T200000
DTSTAMP:20260425T062539
CREATED:20161208T222318Z
LAST-MODIFIED:20161213T024928Z
UID:6331-1481738400-1481745600@wiredwest.net
SUMMARY:WiredWest Executive Committee Meeting
DESCRIPTION:posted 12/8/16 5:25 pm; agenda updated 12/12/16 9:50 pm \nDownload
URL:https://wiredwest.net/event/wiredwest-executive-committee-meeting-26/
CATEGORIES:Executive Committee Meeting
END:VEVENT
BEGIN:VEVENT
DTSTART;TZID=America/New_York:20161207T180000
DTEND;TZID=America/New_York:20161207T200000
DTSTAMP:20260425T062539
CREATED:20161203T131806Z
LAST-MODIFIED:20161205T013744Z
UID:6297-1481133600-1481140800@wiredwest.net
SUMMARY:WiredWest Executive Committee
DESCRIPTION:Posted 12/3/16 8:20 am; agenda updated 12/4/16 8:40 pm \nDownload
URL:https://wiredwest.net/event/wiredwest-executive-committee-3/
CATEGORIES:Executive Committee Meeting
END:VEVENT
BEGIN:VEVENT
DTSTART;TZID=America/New_York:20161130T180000
DTEND;TZID=America/New_York:20161130T200000
DTSTAMP:20260425T062539
CREATED:20161120T161632Z
LAST-MODIFIED:20161121T013749Z
UID:6260-1480528800-1480536000@wiredwest.net
SUMMARY:WiredWest Executive Committee Meeting
DESCRIPTION:Posted 11/20/2016 11:20 am; agenda added 11/20/2016 8:40 pm \nDownload
URL:https://wiredwest.net/event/wiredwest-executive-committee-meeting-25/
CATEGORIES:Executive Committee Meeting
END:VEVENT
BEGIN:VEVENT
DTSTART;TZID=America/New_York:20161116T183000
DTEND;TZID=America/New_York:20161116T203000
DTSTAMP:20260425T062539
CREATED:20161112T202306Z
LAST-MODIFIED:20161114T130544Z
UID:6194-1479321000-1479328200@wiredwest.net
SUMMARY:WiredWest Executive Committee Meeting
DESCRIPTION:Posted 11/12/16; agenda posted 11/14/16 8:05 am \n			\n				\n					\n						\n							\n							Loading...\n						\n					\n					\n						\n							\n							Taking too long?\n						\n						\n							\n								 Reload document							\n							|\n							\n								 Open in new tab							\n					\n				\n			\n		Download
URL:https://wiredwest.net/event/wiredwest-executive-committee-meeting-24/
CATEGORIES:Executive Committee Meeting
END:VEVENT
BEGIN:VEVENT
DTSTART;TZID=America/New_York:20161112T093000
DTEND;TZID=America/New_York:20161112T120000
DTSTAMP:20260425T062539
CREATED:20161024T211639Z
LAST-MODIFIED:20161110T041255Z
UID:6071-1478943000-1478952000@wiredwest.net
SUMMARY:WiredWest Board of Directors Meeting
DESCRIPTION:Posted 10/24/16 5:15 pm; agenda added 11/9/16 11:11 pm \n			\n				\n					\n						\n							\n							Loading...\n						\n					\n					\n						\n							\n							Taking too long?\n						\n						\n							\n								 Reload document							\n							|\n							\n								 Open in new tab							\n					\n				\n			\n		Download
URL:https://wiredwest.net/event/wiredwest-board-directors-meeting-6/
CATEGORIES:Board Meeting
END:VEVENT
BEGIN:VEVENT
DTSTART;TZID=America/New_York:20161109T180000
DTEND;TZID=America/New_York:20161109T210000
DTSTAMP:20260425T062539
CREATED:20161107T214740Z
LAST-MODIFIED:20161107T214740Z
UID:6150-1478714400-1478725200@wiredwest.net
SUMMARY:WiredWest Executive Committee Meeting
DESCRIPTION:Posted 11/7/2016 4:47 pm \n			\n				\n					\n						\n							\n							Loading...\n						\n					\n					\n						\n							\n							Taking too long?\n						\n						\n							\n								 Reload document							\n							|\n							\n								 Open in new tab							\n					\n				\n			\n		Download
URL:https://wiredwest.net/event/wiredwest-executive-committee-meeting-23/
CATEGORIES:Executive Committee Meeting
END:VEVENT
BEGIN:VEVENT
DTSTART;TZID=America/New_York:20161102T180000
DTEND;TZID=America/New_York:20161102T200000
DTSTAMP:20260425T062539
CREATED:20161030T150029Z
LAST-MODIFIED:20161031T161545Z
UID:6119-1478109600-1478116800@wiredwest.net
SUMMARY:WiredWest Executive Committee Meeting
DESCRIPTION:Posted 10/30/16 11:00 am; agenda added 10/31/16 12:20 pm \n			\n				\n					\n						\n							\n							Loading...\n						\n					\n					\n						\n							\n							Taking too long?\n						\n						\n							\n								 Reload document							\n							|\n							\n								 Open in new tab							\n					\n				\n			\n		Download
URL:https://wiredwest.net/event/wiredwest-executive-committee-meeting-22/
CATEGORIES:Executive Committee Meeting
END:VEVENT
BEGIN:VEVENT
DTSTART;TZID=America/New_York:20161026T180000
DTEND;TZID=America/New_York:20161026T200000
DTSTAMP:20260425T062539
CREATED:20161023T150804Z
LAST-MODIFIED:20161024T212101Z
UID:6057-1477504800-1477512000@wiredwest.net
SUMMARY:WiredWest Executive Committee Meeting
DESCRIPTION:Posted 10/24/16 5:10 pm; agenda added 10/24/16 5:20 pm \n			\n				\n					\n						\n							\n							Loading...\n						\n					\n					\n						\n							\n							Taking too long?\n						\n						\n							\n								 Reload document							\n							|\n							\n								 Open in new tab							\n					\n				\n			\n		Download
URL:https://wiredwest.net/event/wiredwest-executive/
CATEGORIES:Executive Committee Meeting
END:VEVENT
BEGIN:VEVENT
DTSTART;TZID=America/New_York:20161022T093000
DTEND;TZID=America/New_York:20161022T120000
DTSTAMP:20260425T062539
CREATED:20161010T143607Z
LAST-MODIFIED:20161020T014309Z
UID:5934-1477128600-1477137600@wiredwest.net
SUMMARY:WiredWest Board of Directors Meeting
DESCRIPTION:Loading...\n						\n					\n					\n						\n							\n							Taking too long?\n						\n						\n							\n								 Reload document							\n							|\n							\n								 Open in new tab							\n					\n				\n			\n		Download  Posted 10/10/16 10:35 am
URL:https://wiredwest.net/event/wiredwest-board-directors-meeting-5/
CATEGORIES:Board Meeting
END:VEVENT
BEGIN:VEVENT
DTSTART;TZID=America/New_York:20161019T183000
DTEND;TZID=America/New_York:20161019T203000
DTSTAMP:20260425T062539
CREATED:20161016T115616Z
LAST-MODIFIED:20161031T185357Z
UID:5974-1476901800-1476909000@wiredwest.net
SUMMARY:WiredWest Executive Committee Meeting
DESCRIPTION:Posted 10/16/2016 8:00 am; agenda added 10/17/16 8:20 pm; minutes added 10/31/16 2:55 pm \n			\n				\n					\n						\n							\n							Loading...\n						\n					\n					\n						\n							\n							Taking too long?\n						\n						\n							\n								 Reload document							\n							|\n							\n								 Open in new tab							\n					\n				\n			\n		Download  \n			\n				\n					\n						\n							\n							Loading...\n						\n					\n					\n						\n							\n							Taking too long?\n						\n						\n							\n								 Reload document							\n							|\n							\n								 Open in new tab							\n					\n				\n			\n		Download  \n 
URL:https://wiredwest.net/event/wiredwest-executive-committee-meeting-21/
CATEGORIES:Executive Committee Meeting
END:VEVENT
BEGIN:VEVENT
DTSTART;TZID=America/New_York:20161017T100000
DTEND;TZID=America/New_York:20161017T120000
DTSTAMP:20260425T062539
CREATED:20161014T012702Z
LAST-MODIFIED:20161014T012702Z
UID:5958-1476698400-1476705600@wiredwest.net
SUMMARY:WiredWest Executive Committee
DESCRIPTION:Posted 10/12/16 6:45 pm \nMeeting with Governor’s Rural Policy Advisory Commission Western Mass members.
URL:https://wiredwest.net/event/wiredwest-executive-committee-2/
CATEGORIES:Executive Committee Meeting
END:VEVENT
BEGIN:VEVENT
DTSTART;TZID=America/New_York:20161016T180000
DTEND;TZID=America/New_York:20161016T200000
DTSTAMP:20260425T062539
CREATED:20161012T090128Z
LAST-MODIFIED:20161012T135412Z
UID:5942-1476640800-1476648000@wiredwest.net
SUMMARY:WiredWest Outreach Committee Meeting
DESCRIPTION:Loading...\n						\n					\n					\n						\n							\n							Taking too long?\n						\n						\n							\n								 Reload document							\n							|\n							\n								 Open in new tab							\n					\n				\n			\n		Download
URL:https://wiredwest.net/event/5942/
CATEGORIES:Outreach Committee Meeting
END:VEVENT
BEGIN:VEVENT
DTSTART;TZID=America/New_York:20161014T180000
DTEND;TZID=America/New_York:20161014T200000
DTSTAMP:20260425T062539
CREATED:20161014T110513Z
LAST-MODIFIED:20161014T110513Z
UID:5970-1476468000-1476475200@wiredwest.net
SUMMARY:WiredWest Executive Committee Meeting Cancelled
DESCRIPTION:
URL:https://wiredwest.net/event/wiredwest-executive-committee-meeting-cancelled/
CATEGORIES:Executive Committee Meeting
END:VEVENT
BEGIN:VEVENT
DTSTART;TZID=America/New_York:20161012T180000
DTEND;TZID=America/New_York:20161012T200000
DTSTAMP:20260425T062539
CREATED:20161008T172325Z
LAST-MODIFIED:20161031T185039Z
UID:5923-1476295200-1476302400@wiredwest.net
SUMMARY:WiredWest Executive Committee Meeting
DESCRIPTION:Posted 10/8/16 1:25 pm; agenda added 10/10/16 8:25 am; minutes added 10/31/16 2:50 pm \n			\n				\n					\n						\n							\n							Loading...\n						\n					\n					\n						\n							\n							Taking too long?\n						\n						\n							\n								 Reload document							\n							|\n							\n								 Open in new tab							\n					\n				\n			\n		Download  \n			\n				\n					\n						\n							\n							Loading...\n						\n					\n					\n						\n							\n							Taking too long?\n						\n						\n							\n								 Reload document							\n							|\n							\n								 Open in new tab							\n					\n				\n			\n		Download
URL:https://wiredwest.net/event/wiredwest-executive-committee-meeting-20/
CATEGORIES:Executive Committee Meeting
END:VEVENT
BEGIN:VEVENT
DTSTART;TZID=America/New_York:20161005T180000
DTEND;TZID=America/New_York:20161005T210000
DTSTAMP:20260425T062539
CREATED:20161003T190246Z
LAST-MODIFIED:20161003T190246Z
UID:5847-1475690400-1475701200@wiredwest.net
SUMMARY:WiredWest Executive Committee Meeting
DESCRIPTION:Posted 10/3/2016 3:05 pm \n			\n				\n					\n						\n							\n							Loading...\n						\n					\n					\n						\n							\n							Taking too long?\n						\n						\n							\n								 Reload document							\n							|\n							\n								 Open in new tab							\n					\n				\n			\n		Download
URL:https://wiredwest.net/event/wiredwest-executive-committee-meeting-19/
CATEGORIES:Executive Committee Meeting
END:VEVENT
BEGIN:VEVENT
DTSTART;TZID=America/New_York:20161001T093000
DTEND;TZID=America/New_York:20161001T120000
DTSTAMP:20260425T062539
CREATED:20160912T113649Z
LAST-MODIFIED:20161023T145337Z
UID:5596-1475314200-1475323200@wiredwest.net
SUMMARY:WiredWest Board of Director's Meeting
DESCRIPTION:Posted 9/12/16 7:40 am; agenda posted 9/28/16 7:45 pm; approved minutes added 10/23/16 10:52 am \n			\n				\n					\n						\n							\n							Loading...\n						\n					\n					\n						\n							\n							Taking too long?\n						\n						\n							\n								 Reload document							\n							|\n							\n								 Open in new tab							\n					\n				\n			\n		Download  \n			\n				\n					\n						\n							\n							Loading...\n						\n					\n					\n						\n							\n							Taking too long?\n						\n						\n							\n								 Reload document							\n							|\n							\n								 Open in new tab							\n					\n				\n			\n		Download
URL:https://wiredwest.net/event/wiredwest-board-directors-meeting-4/
CATEGORIES:Board Meeting
END:VEVENT
BEGIN:VEVENT
DTSTART;TZID=America/New_York:20160928T180000
DTEND;TZID=America/New_York:20160928T200000
DTSTAMP:20260425T062539
CREATED:20160926T112121Z
LAST-MODIFIED:20160926T112121Z
UID:5756-1475085600-1475092800@wiredwest.net
SUMMARY:WiredWest Executive Committee Meeting
DESCRIPTION:Posted 9/26/16 7:25 am \n			\n				\n					\n						\n							\n							Loading...\n						\n					\n					\n						\n							\n							Taking too long?\n						\n						\n							\n								 Reload document							\n							|\n							\n								 Open in new tab							\n					\n				\n			\n		Download
URL:https://wiredwest.net/event/wiredwest-executive-committee-meeting-18/
CATEGORIES:Executive Committee Meeting
END:VEVENT
BEGIN:VEVENT
DTSTART;TZID=America/New_York:20160922T180000
DTEND;TZID=America/New_York:20160922T200000
DTSTAMP:20260425T062539
CREATED:20160909T221555Z
LAST-MODIFIED:20160920T220415Z
UID:5527-1474567200-1474574400@wiredwest.net
SUMMARY:WiredWest Executive Committee Meeting - Cancelled
DESCRIPTION:Posted 9/9/16 6:15 pm; updated 9/20/16 5:50pm \nMeeting cancelled due to attendee’s conflict. \n 
URL:https://wiredwest.net/event/wiredwest-executive-committee-meeting-16/
CATEGORIES:Executive Committee Meeting
END:VEVENT
BEGIN:VEVENT
DTSTART;TZID=America/New_York:20160921T180000
DTEND;TZID=America/New_York:20160921T200000
DTSTAMP:20260425T062539
CREATED:20160916T141336Z
LAST-MODIFIED:20160916T141336Z
UID:5655-1474480800-1474488000@wiredwest.net
SUMMARY:WiredWest Executive Committee Meeting
DESCRIPTION:Posted 9/16/2016 10:15 am \nDownload
URL:https://wiredwest.net/event/wiredwest-executive-committee-meeting-17/
CATEGORIES:Executive Committee Meeting
END:VEVENT
BEGIN:VEVENT
DTSTART;TZID=America/New_York:20160914T180000
DTEND;TZID=America/New_York:20160914T200000
DTSTAMP:20260425T062539
CREATED:20160909T113247Z
LAST-MODIFIED:20160920T170458Z
UID:5509-1473876000-1473883200@wiredwest.net
SUMMARY:WiredWest Executive Committee
DESCRIPTION:Posted 9/9/16 7:32 am\, agenda added 9/9/16 8:35 pm \n			\n				\n					\n						\n							\n							Loading...\n						\n					\n					\n						\n							\n							Taking too long?\n						\n						\n							\n								 Reload document							\n							|\n							\n								 Open in new tab							\n					\n				\n			\n		Download  \nDownload
URL:https://wiredwest.net/event/wiredwest-executive-committee/
END:VEVENT
BEGIN:VEVENT
DTSTART;TZID=America/New_York:20160910T093000
DTEND;TZID=America/New_York:20160910T120000
DTSTAMP:20260425T062539
CREATED:20160726T104905Z
LAST-MODIFIED:20160908T003043Z
UID:5385-1473499800-1473508800@wiredwest.net
SUMMARY:WiredWest Board of Directors Meeting
DESCRIPTION:Posted 7/26/2016 6:48 am; agenda added 9/7/16 8:30 pm \n			\n				\n					\n						\n							\n							Loading...\n						\n					\n					\n						\n							\n							Taking too long?\n						\n						\n							\n								 Reload document							\n							|\n							\n								 Open in new tab							\n					\n				\n			\n		Download
URL:https://wiredwest.net/event/wiredwest-board-directors-meeting-3/
CATEGORIES:Board Meeting
END:VEVENT
BEGIN:VEVENT
DTSTART;TZID=America/New_York:20160907T180000
DTEND;TZID=America/New_York:20160907T190000
DTSTAMP:20260425T062540
CREATED:20160904T152751Z
LAST-MODIFIED:20160905T191019Z
UID:5473-1473271200-1473274800@wiredwest.net
SUMMARY:WiredWest Executive Committee Meeting
DESCRIPTION:Posted 9/4/16 11:25 am\, agenda posted 9/5/16 3:10 pm \n			\n				\n					\n						\n							\n							Loading...\n						\n					\n					\n						\n							\n							Taking too long?\n						\n						\n							\n								 Reload document							\n							|\n							\n								 Open in new tab							\n					\n				\n			\n		Download
URL:https://wiredwest.net/event/wiredwest-executive-committee-meeting-15/
END:VEVENT
BEGIN:VEVENT
DTSTART;TZID=America/New_York:20160831T180000
DTEND;TZID=America/New_York:20160831T200000
DTSTAMP:20260425T062540
CREATED:20160815T161118Z
LAST-MODIFIED:20160829T131956Z
UID:5439-1472666400-1472673600@wiredwest.net
SUMMARY:WiredWest Executive Committee Meeting
DESCRIPTION:Posted 08/15/16 12:10 pm; Agenda added 8/29/16 9:20 am \n			\n				\n					\n						\n							\n							Loading...\n						\n					\n					\n						\n							\n							Taking too long?\n						\n						\n							\n								 Reload document							\n							|\n							\n								 Open in new tab							\n					\n				\n			\n		Download
URL:https://wiredwest.net/event/wiredwest-executive-committee-meeting-14/
CATEGORIES:Executive Committee Meeting
END:VEVENT
BEGIN:VEVENT
DTSTART;TZID=America/New_York:20160810T180000
DTEND;TZID=America/New_York:20160810T200000
DTSTAMP:20260425T062540
CREATED:20160806T215916Z
LAST-MODIFIED:20160810T143712Z
UID:5419-1470852000-1470859200@wiredwest.net
SUMMARY:WiredWest Executive Committee Meeting
DESCRIPTION:Posted 08/06/16 6:00 pm			\n				\n					\n						\n							\n							Loading...\n						\n					\n					\n						\n							\n							Taking too long?\n						\n						\n							\n								 Reload document							\n							|\n							\n								 Open in new tab							\n					\n				\n			\n		Download   \n 
URL:https://wiredwest.net/event/wiredwest-executive-committee-meeting-13/
CATEGORIES:Executive Committee Meeting
END:VEVENT
BEGIN:VEVENT
DTSTART;TZID=America/New_York:20160729T180000
DTEND;TZID=America/New_York:20160729T200000
DTSTAMP:20260425T062540
CREATED:20160726T004718Z
LAST-MODIFIED:20160727T113944Z
UID:5384-1469815200-1469822400@wiredwest.net
SUMMARY:WiredWest Executive Committee Meeting
DESCRIPTION:Posted July\, 2016 8:47pm\, agenda added 7/27/2016 7:39 am \n			\n				\n					\n						\n							\n							Loading...\n						\n					\n					\n						\n							\n							Taking too long?\n						\n						\n							\n								 Reload document							\n							|\n							\n								 Open in new tab							\n					\n				\n			\n		Download
URL:https://wiredwest.net/event/wiredwest-executive-committee-meeting-12/
CATEGORIES:Executive Committee Meeting
END:VEVENT
BEGIN:VEVENT
DTSTART;TZID=America/New_York:20160723T093000
DTEND;TZID=America/New_York:20160723T120000
DTSTAMP:20260425T062540
CREATED:20160714T023745Z
LAST-MODIFIED:20160719T221005Z
UID:5367-1469266200-1469275200@wiredwest.net
SUMMARY:WiredWest Board of Directors Meeting
DESCRIPTION:Posted 7/13/2016 10:37 pm\, Agenda added 7/19/2016 6:10 pm \n			\n				\n					\n						\n							\n							Loading...\n						\n					\n					\n						\n							\n							Taking too long?\n						\n						\n							\n								 Reload document							\n							|\n							\n								 Open in new tab							\n					\n				\n			\n		Download  \n 
URL:https://wiredwest.net/event/wiredwest-board-directors-meeting-2/
CATEGORIES:Board Meeting
END:VEVENT
END:VCALENDAR