BEGIN:VCALENDAR
VERSION:2.0
PRODID:-//WiredWest - ECPv6.15.20//NONSGML v1.0//EN
CALSCALE:GREGORIAN
METHOD:PUBLISH
X-WR-CALNAME:WiredWest
X-ORIGINAL-URL:https://wiredwest.net
X-WR-CALDESC:Events for WiredWest
REFRESH-INTERVAL;VALUE=DURATION:PT1H
X-Robots-Tag:noindex
X-PUBLISHED-TTL:PT1H
BEGIN:VTIMEZONE
TZID:America/New_York
BEGIN:DAYLIGHT
TZOFFSETFROM:-0500
TZOFFSETTO:-0400
TZNAME:EDT
DTSTART:20150308T070000
END:DAYLIGHT
BEGIN:STANDARD
TZOFFSETFROM:-0400
TZOFFSETTO:-0500
TZNAME:EST
DTSTART:20151101T060000
END:STANDARD
BEGIN:DAYLIGHT
TZOFFSETFROM:-0500
TZOFFSETTO:-0400
TZNAME:EDT
DTSTART:20160313T070000
END:DAYLIGHT
BEGIN:STANDARD
TZOFFSETFROM:-0400
TZOFFSETTO:-0500
TZNAME:EST
DTSTART:20161106T060000
END:STANDARD
BEGIN:DAYLIGHT
TZOFFSETFROM:-0500
TZOFFSETTO:-0400
TZNAME:EDT
DTSTART:20170312T070000
END:DAYLIGHT
BEGIN:STANDARD
TZOFFSETFROM:-0400
TZOFFSETTO:-0500
TZNAME:EST
DTSTART:20171105T060000
END:STANDARD
BEGIN:DAYLIGHT
TZOFFSETFROM:-0500
TZOFFSETTO:-0400
TZNAME:EDT
DTSTART:20180311T070000
END:DAYLIGHT
BEGIN:STANDARD
TZOFFSETFROM:-0400
TZOFFSETTO:-0500
TZNAME:EST
DTSTART:20181104T060000
END:STANDARD
END:VTIMEZONE
BEGIN:VEVENT
DTSTART;TZID=America/New_York:20170215T180000
DTEND;TZID=America/New_York:20170215T200000
DTSTAMP:20260425T112344
CREATED:20170213T143004Z
LAST-MODIFIED:20170213T144306Z
UID:6809-1487181600-1487188800@wiredwest.net
SUMMARY:WiredWest Executive Committee Meeting
DESCRIPTION:Download
URL:https://wiredwest.net/event/wiredwest-executive-committee-meeting-35/
CATEGORIES:Executive Committee Meeting
END:VEVENT
BEGIN:VEVENT
DTSTART;TZID=America/New_York:20170208T200000
DTEND;TZID=America/New_York:20170208T210000
DTSTAMP:20260425T112344
CREATED:20170207T002116Z
LAST-MODIFIED:20170207T002342Z
UID:6779-1486584000-1486587600@wiredwest.net
SUMMARY:WiredWest Outreach Committee Meeting
DESCRIPTION:Loading...\n						\n					\n					\n						\n							\n							Taking too long?\n						\n						\n							\n								 Reload document							\n							|\n							\n								 Open in new tab							\n					\n				\n			\n		Download
URL:https://wiredwest.net/event/wiredwest-outreach-committee-meeting-6/
CATEGORIES:Outreach Committee Meeting
END:VEVENT
BEGIN:VEVENT
DTSTART;TZID=America/New_York:20170208T180000
DTEND;TZID=America/New_York:20170208T200000
DTSTAMP:20260425T112344
CREATED:20170206T235805Z
LAST-MODIFIED:20170206T235805Z
UID:6771-1486576800-1486584000@wiredwest.net
SUMMARY:WiredWest Executive Committee Meeting
DESCRIPTION:WiredWest Executive Committee Meeting Agenda \nDate / time: Wednesday\, February 8\, 2017 6:00 PM \nLocation / address: Hampshire Council of Governments\, 99 Main Street\, Northampton\, MA \n\nApprove minutes of previous meeting – February 1\n\n\nRegional Broadband Solution update\n\n\nMBI update\n\n\nCommittee Updates\n\n\nReview other ongoing work\, including meetings\, conference calls\n\n\nOther business which could not be reasonably foreseen within 48 hours of meeting\n\n\nSet next EC meeting\n\n 
URL:https://wiredwest.net/event/wiredwest-executive-committee-meeting-34/
CATEGORIES:Executive Committee Meeting
END:VEVENT
BEGIN:VEVENT
DTSTART;TZID=America/New_York:20170204T120000
DTEND;TZID=America/New_York:20170204T130000
DTSTAMP:20260425T112344
CREATED:20170202T021535Z
LAST-MODIFIED:20170202T021535Z
UID:6734-1486209600-1486213200@wiredwest.net
SUMMARY:Wired West Outreach Committee Meeting
DESCRIPTION:Loading...\n						\n					\n					\n						\n							\n							Taking too long?\n						\n						\n							\n								 Reload document							\n							|\n							\n								 Open in new tab							\n					\n				\n			\n		Download
URL:https://wiredwest.net/event/wired-west-outreach-committee-meeting/
LOCATION:Becket Town Hall\, 557 Main St\, Becket\, MA\, 01223\, United States
CATEGORIES:Outreach Committee Meeting
END:VEVENT
BEGIN:VEVENT
DTSTART;TZID=America/New_York:20170204T093000
DTEND;TZID=America/New_York:20170204T120000
DTSTAMP:20260425T112344
CREATED:20170118T115253Z
LAST-MODIFIED:20170202T014054Z
UID:6513-1486200600-1486209600@wiredwest.net
SUMMARY:WiredWest Board Meeting
DESCRIPTION:In case of snow\, it will be postponed to Wednesday\, February 8 at 6pm at the Northampton Courthouse. \nPosted Jan 18\, 2017; agenda added Feb 1\, 2017 8:45 pm \nDownload
URL:https://wiredwest.net/event/wiredwest-board-meeting-3/
LOCATION:Becket Town Hall\, 557 Main St\, Becket\, MA\, 01223\, United States
CATEGORIES:Board Meeting
END:VEVENT
BEGIN:VEVENT
DTSTART;TZID=America/New_York:20170201T193000
DTEND;TZID=America/New_York:20170201T210000
DTSTAMP:20260425T112344
CREATED:20170130T030613Z
LAST-MODIFIED:20170130T030613Z
UID:6643-1485977400-1485982800@wiredwest.net
SUMMARY:WiredWest Outreach Committee Meeting
DESCRIPTION:Loading...\n						\n					\n					\n						\n							\n							Taking too long?\n						\n						\n							\n								 Reload document							\n							|\n							\n								 Open in new tab							\n					\n				\n			\n		Download
URL:https://wiredwest.net/event/wiredwest-outreach-committee-meeting-5/
END:VEVENT
BEGIN:VEVENT
DTSTART;TZID=America/New_York:20170201T180000
DTEND;TZID=America/New_York:20170201T200000
DTSTAMP:20260425T112344
CREATED:20170130T190841Z
LAST-MODIFIED:20170130T190841Z
UID:6646-1485972000-1485979200@wiredwest.net
SUMMARY:WiredWest Executive Committee Meeting
DESCRIPTION:WiredWest Executive Committee Meeting Agenda \nDate / time: Wednesday\, February 1\, 2017 6:00 PM \nLocation / address: Hampshire Council of Governments\, 99 Main Street\, Northampton\, MA \n\nApprove minutes of previous meeting – January 25\n\n\nReview and approve draft Selectboard MOU/Resolution\n\n\nRegional Solution Workshop review\n\n\nMBI update\n\n\nCommittee Updates\n\n\nReview other ongoing work\, including meetings\, conference calls\n\n\nOther business which could not be reasonably foreseen within 48 hours of meeting\n\n\nSet next EC meeting\n\n 
URL:https://wiredwest.net/event/wiredwest-executive-committee-meeting-33/
CATEGORIES:Executive Committee Meeting
END:VEVENT
BEGIN:VEVENT
DTSTART;TZID=America/New_York:20170128T093000
DTEND;TZID=America/New_York:20170128T120000
DTSTAMP:20260425T112344
CREATED:20170124T015031Z
LAST-MODIFIED:20170127T031611Z
UID:6545-1485595800-1485604800@wiredwest.net
SUMMARY:WiredWest Regional Broadband Solution Workshop and Board Meeting
DESCRIPTION:Informational Meeting with the General Public\n\nPresentation of WiredWest Solution\nTown-by-Town Analysis\nQuestions & Answers\nNext Steps
URL:https://wiredwest.net/event/wiredwest-regional-solution-workshop/
CATEGORIES:Public Informational Meeting
END:VEVENT
BEGIN:VEVENT
DTSTART;TZID=America/New_York:20170125T193000
DTEND;TZID=America/New_York:20170125T210000
DTSTAMP:20260425T112344
CREATED:20170124T020733Z
LAST-MODIFIED:20170124T020733Z
UID:6562-1485372600-1485378000@wiredwest.net
SUMMARY:WiredWest Outreach Committee Meeting
DESCRIPTION:Loading...\n						\n					\n					\n						\n							\n							Taking too long?\n						\n						\n							\n								 Reload document							\n							|\n							\n								 Open in new tab							\n					\n				\n			\n		Download
URL:https://wiredwest.net/event/wiredwest-outreach-committee-meeting-4/
END:VEVENT
BEGIN:VEVENT
DTSTART;TZID=America/New_York:20170125T180000
DTEND;TZID=America/New_York:20170125T200000
DTSTAMP:20260425T112344
CREATED:20170122T181223Z
LAST-MODIFIED:20170124T020037Z
UID:6542-1485367200-1485374400@wiredwest.net
SUMMARY:WiredWest Executive Committee Meeting
DESCRIPTION:Agenda\n\nApprove minutes of previous meetings – January 11\n\n\nMBI update\n\n\nReview and approve draft Selectboard Resolution\n\n\nRegional Solution Workshop planning\n\n\nCommittee Updates\n\n\nReview other ongoing work\, including meetings\, conference calls\n\n\nOther business which could not be reasonably foreseen within 48 hours of meeting\n\n\nSet next EC meeting
URL:https://wiredwest.net/event/wiredwest-executive-committee-meeting-32/
CATEGORIES:Executive Committee Meeting
END:VEVENT
BEGIN:VEVENT
DTSTART;TZID=America/New_York:20170120T193000
DTEND;TZID=America/New_York:20170120T210000
DTSTAMP:20260425T112344
CREATED:20170118T030841Z
LAST-MODIFIED:20170118T180557Z
UID:6504-1484940600-1484946000@wiredwest.net
SUMMARY:WiredWest Outreach Committee
DESCRIPTION:Download
URL:https://wiredwest.net/event/wiredwest-outreach-committee/
END:VEVENT
BEGIN:VEVENT
DTSTART;TZID=America/New_York:20170120T180000
DTEND;TZID=America/New_York:20170120T193000
DTSTAMP:20260425T112345
CREATED:20170118T173606Z
LAST-MODIFIED:20170118T173606Z
UID:6519-1484935200-1484940600@wiredwest.net
SUMMARY:WiredWest Executive Committee Meeting
DESCRIPTION:Posted 1/18/17 12:35 pm \nDownload
URL:https://wiredwest.net/event/wiredwest-executive-committee-meeting-31/
CATEGORIES:Executive Committee Meeting
END:VEVENT
BEGIN:VEVENT
DTSTART;TZID=America/New_York:20170118T183000
DTEND;TZID=America/New_York:20170118T193000
DTSTAMP:20260425T112345
CREATED:20170112T020338Z
LAST-MODIFIED:20170118T172615Z
UID:6440-1484764200-1484767800@wiredwest.net
SUMMARY:WiredWest Executive Committee Meeting - cancelled
DESCRIPTION:Cancelled due to weather\, rescheduled for Friday\, Jan 20.
URL:https://wiredwest.net/event/wiredwest-executive-committee-meeting-30/
CATEGORIES:Executive Committee Meeting
END:VEVENT
BEGIN:VEVENT
DTSTART;TZID=America/New_York:20170114T103000
DTEND;TZID=America/New_York:20170114T120000
DTSTAMP:20260425T112345
CREATED:20161214T202020Z
LAST-MODIFIED:20170113T204231Z
UID:6192-1484389800-1484395200@wiredwest.net
SUMMARY:WiredWest Board of Directors Meeting
DESCRIPTION:In case of snow\, it will be postponed to January 25 at 6pm at the Northampton Courthouse. \nPosted November 12\, 2016\, updated Jan 11\, 2017 \nDownload
URL:https://wiredwest.net/event/wiredwest-board-directors-meeting-8/
CATEGORIES:Board Meeting
END:VEVENT
BEGIN:VEVENT
DTSTART;TZID=America/New_York:20170111T200000
DTEND;TZID=America/New_York:20170111T210000
DTSTAMP:20260425T112345
CREATED:20170109T192916Z
LAST-MODIFIED:20170109T192916Z
UID:6424-1484164800-1484168400@wiredwest.net
SUMMARY:WiredWest Outreach Committee Meeting
DESCRIPTION:Loading...\n						\n					\n					\n						\n							\n							Taking too long?\n						\n						\n							\n								 Reload document							\n							|\n							\n								 Open in new tab							\n					\n				\n			\n		Download
URL:https://wiredwest.net/event/wiredwest-outreach-committee-meeting-3/
CATEGORIES:Outreach Committee Meeting
END:VEVENT
BEGIN:VEVENT
DTSTART;TZID=America/New_York:20170111T180000
DTEND;TZID=America/New_York:20170111T200000
DTSTAMP:20260425T112345
CREATED:20161229T140352Z
LAST-MODIFIED:20170106T215553Z
UID:6392-1484157600-1484164800@wiredwest.net
SUMMARY:WiredWest Executive Committee Meeting
DESCRIPTION:Download
URL:https://wiredwest.net/event/wiredwest-executive-committee-meeting-29/
CATEGORIES:Executive Committee Meeting
END:VEVENT
BEGIN:VEVENT
DTSTART;TZID=America/New_York:20170104T180000
DTEND;TZID=America/New_York:20170104T200000
DTSTAMP:20260425T112345
CREATED:20161229T140144Z
LAST-MODIFIED:20170104T200118Z
UID:6390-1483552800-1483560000@wiredwest.net
SUMMARY:WiredWest Executive Committee Meeting
DESCRIPTION:Download
URL:https://wiredwest.net/event/wiredwest-executive-committee-meeting-28/
CATEGORIES:Executive Committee Meeting
END:VEVENT
BEGIN:VEVENT
DTSTART;TZID=America/New_York:20161228T180000
DTEND;TZID=America/New_York:20161228T193000
DTSTAMP:20260425T112345
CREATED:20161218T231005Z
LAST-MODIFIED:20161223T225345Z
UID:6367-1482948000-1482953400@wiredwest.net
SUMMARY:WiredWest Executive Committee Meeting
DESCRIPTION:Posted 12/18/16 6:10 pm; agenda added 12/23/16 5:55 pm \nDownload
URL:https://wiredwest.net/event/wiredwest-executive-committee-meeting-27/
CATEGORIES:Executive Committee Meeting
END:VEVENT
BEGIN:VEVENT
DTSTART;TZID=America/New_York:20161228T073000
DTEND;TZID=America/New_York:20161228T210000
DTSTAMP:20260425T112345
CREATED:20161223T144107Z
LAST-MODIFIED:20161226T134938Z
UID:6383-1482910200-1482958800@wiredwest.net
SUMMARY:WiredWest Outreach Committee Meeting
DESCRIPTION:At Hampshire Council of Governments\, the Courthouse\, Northampton\, MA. \nAgenda \n\n\n\nApprove minutes from October 16 meeting \nCommunications Strategy \n\n\n\n\nOverall Communications strategy\nMessage to town officials\nMessage to subscribers\nWebsite\n\n\n\n\nOther business – (Items that could not be reasonably foreseen within 48 hours of meeting) \n\n\n\nSchedule next meeting
URL:https://wiredwest.net/event/wiredwest-outreach-committee-meeting-2/
END:VEVENT
BEGIN:VEVENT
DTSTART;TZID=America/New_York:20161221T180000
DTEND;TZID=America/New_York:20161221T200000
DTSTAMP:20260425T112345
CREATED:20161214T201519Z
LAST-MODIFIED:20161217T043102Z
UID:6189-1482343200-1482350400@wiredwest.net
SUMMARY:WiredWest Board of Directors Meeting
DESCRIPTION:at Hampshire Council of Governments\, The Northampton Courthouse \nUpdated December 14\, 2016 \nDue to snow expected on the 17th\, the meeting will be held to 6:00pm Dec 21 at Hampshire Council of Governments in Northampton. \n			\n				\n					\n						\n							\n							Loading...\n						\n					\n					\n						\n							\n							Taking too long?\n						\n						\n							\n								 Reload document							\n							|\n							\n								 Open in new tab							\n					\n				\n			\n		Download
URL:https://wiredwest.net/event/wiredwest-board-directors-meeting-7/
CATEGORIES:Board Meeting
END:VEVENT
BEGIN:VEVENT
DTSTART;TZID=America/New_York:20161214T180000
DTEND;TZID=America/New_York:20161214T200000
DTSTAMP:20260425T112345
CREATED:20161208T222318Z
LAST-MODIFIED:20161213T024928Z
UID:6331-1481738400-1481745600@wiredwest.net
SUMMARY:WiredWest Executive Committee Meeting
DESCRIPTION:posted 12/8/16 5:25 pm; agenda updated 12/12/16 9:50 pm \nDownload
URL:https://wiredwest.net/event/wiredwest-executive-committee-meeting-26/
CATEGORIES:Executive Committee Meeting
END:VEVENT
BEGIN:VEVENT
DTSTART;TZID=America/New_York:20161207T180000
DTEND;TZID=America/New_York:20161207T200000
DTSTAMP:20260425T112345
CREATED:20161203T131806Z
LAST-MODIFIED:20161205T013744Z
UID:6297-1481133600-1481140800@wiredwest.net
SUMMARY:WiredWest Executive Committee
DESCRIPTION:Posted 12/3/16 8:20 am; agenda updated 12/4/16 8:40 pm \nDownload
URL:https://wiredwest.net/event/wiredwest-executive-committee-3/
CATEGORIES:Executive Committee Meeting
END:VEVENT
BEGIN:VEVENT
DTSTART;TZID=America/New_York:20161130T180000
DTEND;TZID=America/New_York:20161130T200000
DTSTAMP:20260425T112345
CREATED:20161120T161632Z
LAST-MODIFIED:20161121T013749Z
UID:6260-1480528800-1480536000@wiredwest.net
SUMMARY:WiredWest Executive Committee Meeting
DESCRIPTION:Posted 11/20/2016 11:20 am; agenda added 11/20/2016 8:40 pm \nDownload
URL:https://wiredwest.net/event/wiredwest-executive-committee-meeting-25/
CATEGORIES:Executive Committee Meeting
END:VEVENT
BEGIN:VEVENT
DTSTART;TZID=America/New_York:20161116T183000
DTEND;TZID=America/New_York:20161116T203000
DTSTAMP:20260425T112346
CREATED:20161112T202306Z
LAST-MODIFIED:20161114T130544Z
UID:6194-1479321000-1479328200@wiredwest.net
SUMMARY:WiredWest Executive Committee Meeting
DESCRIPTION:Posted 11/12/16; agenda posted 11/14/16 8:05 am \n			\n				\n					\n						\n							\n							Loading...\n						\n					\n					\n						\n							\n							Taking too long?\n						\n						\n							\n								 Reload document							\n							|\n							\n								 Open in new tab							\n					\n				\n			\n		Download
URL:https://wiredwest.net/event/wiredwest-executive-committee-meeting-24/
CATEGORIES:Executive Committee Meeting
END:VEVENT
BEGIN:VEVENT
DTSTART;TZID=America/New_York:20161112T093000
DTEND;TZID=America/New_York:20161112T120000
DTSTAMP:20260425T112346
CREATED:20161024T211639Z
LAST-MODIFIED:20161110T041255Z
UID:6071-1478943000-1478952000@wiredwest.net
SUMMARY:WiredWest Board of Directors Meeting
DESCRIPTION:Posted 10/24/16 5:15 pm; agenda added 11/9/16 11:11 pm \n			\n				\n					\n						\n							\n							Loading...\n						\n					\n					\n						\n							\n							Taking too long?\n						\n						\n							\n								 Reload document							\n							|\n							\n								 Open in new tab							\n					\n				\n			\n		Download
URL:https://wiredwest.net/event/wiredwest-board-directors-meeting-6/
CATEGORIES:Board Meeting
END:VEVENT
BEGIN:VEVENT
DTSTART;TZID=America/New_York:20161109T180000
DTEND;TZID=America/New_York:20161109T210000
DTSTAMP:20260425T112346
CREATED:20161107T214740Z
LAST-MODIFIED:20161107T214740Z
UID:6150-1478714400-1478725200@wiredwest.net
SUMMARY:WiredWest Executive Committee Meeting
DESCRIPTION:Posted 11/7/2016 4:47 pm \n			\n				\n					\n						\n							\n							Loading...\n						\n					\n					\n						\n							\n							Taking too long?\n						\n						\n							\n								 Reload document							\n							|\n							\n								 Open in new tab							\n					\n				\n			\n		Download
URL:https://wiredwest.net/event/wiredwest-executive-committee-meeting-23/
CATEGORIES:Executive Committee Meeting
END:VEVENT
BEGIN:VEVENT
DTSTART;TZID=America/New_York:20161102T180000
DTEND;TZID=America/New_York:20161102T200000
DTSTAMP:20260425T112346
CREATED:20161030T150029Z
LAST-MODIFIED:20161031T161545Z
UID:6119-1478109600-1478116800@wiredwest.net
SUMMARY:WiredWest Executive Committee Meeting
DESCRIPTION:Posted 10/30/16 11:00 am; agenda added 10/31/16 12:20 pm \n			\n				\n					\n						\n							\n							Loading...\n						\n					\n					\n						\n							\n							Taking too long?\n						\n						\n							\n								 Reload document							\n							|\n							\n								 Open in new tab							\n					\n				\n			\n		Download
URL:https://wiredwest.net/event/wiredwest-executive-committee-meeting-22/
CATEGORIES:Executive Committee Meeting
END:VEVENT
BEGIN:VEVENT
DTSTART;TZID=America/New_York:20161026T180000
DTEND;TZID=America/New_York:20161026T200000
DTSTAMP:20260425T112346
CREATED:20161023T150804Z
LAST-MODIFIED:20161024T212101Z
UID:6057-1477504800-1477512000@wiredwest.net
SUMMARY:WiredWest Executive Committee Meeting
DESCRIPTION:Posted 10/24/16 5:10 pm; agenda added 10/24/16 5:20 pm \n			\n				\n					\n						\n							\n							Loading...\n						\n					\n					\n						\n							\n							Taking too long?\n						\n						\n							\n								 Reload document							\n							|\n							\n								 Open in new tab							\n					\n				\n			\n		Download
URL:https://wiredwest.net/event/wiredwest-executive/
CATEGORIES:Executive Committee Meeting
END:VEVENT
BEGIN:VEVENT
DTSTART;TZID=America/New_York:20161022T093000
DTEND;TZID=America/New_York:20161022T120000
DTSTAMP:20260425T112346
CREATED:20161010T143607Z
LAST-MODIFIED:20161020T014309Z
UID:5934-1477128600-1477137600@wiredwest.net
SUMMARY:WiredWest Board of Directors Meeting
DESCRIPTION:Loading...\n						\n					\n					\n						\n							\n							Taking too long?\n						\n						\n							\n								 Reload document							\n							|\n							\n								 Open in new tab							\n					\n				\n			\n		Download  Posted 10/10/16 10:35 am
URL:https://wiredwest.net/event/wiredwest-board-directors-meeting-5/
CATEGORIES:Board Meeting
END:VEVENT
BEGIN:VEVENT
DTSTART;TZID=America/New_York:20161019T183000
DTEND;TZID=America/New_York:20161019T203000
DTSTAMP:20260425T112346
CREATED:20161016T115616Z
LAST-MODIFIED:20161031T185357Z
UID:5974-1476901800-1476909000@wiredwest.net
SUMMARY:WiredWest Executive Committee Meeting
DESCRIPTION:Posted 10/16/2016 8:00 am; agenda added 10/17/16 8:20 pm; minutes added 10/31/16 2:55 pm \n			\n				\n					\n						\n							\n							Loading...\n						\n					\n					\n						\n							\n							Taking too long?\n						\n						\n							\n								 Reload document							\n							|\n							\n								 Open in new tab							\n					\n				\n			\n		Download  \n			\n				\n					\n						\n							\n							Loading...\n						\n					\n					\n						\n							\n							Taking too long?\n						\n						\n							\n								 Reload document							\n							|\n							\n								 Open in new tab							\n					\n				\n			\n		Download  \n 
URL:https://wiredwest.net/event/wiredwest-executive-committee-meeting-21/
CATEGORIES:Executive Committee Meeting
END:VEVENT
END:VCALENDAR