BEGIN:VCALENDAR
VERSION:2.0
PRODID:-//WiredWest - ECPv6.15.20//NONSGML v1.0//EN
CALSCALE:GREGORIAN
METHOD:PUBLISH
X-WR-CALNAME:WiredWest
X-ORIGINAL-URL:https://wiredwest.net
X-WR-CALDESC:Events for WiredWest
REFRESH-INTERVAL;VALUE=DURATION:PT1H
X-Robots-Tag:noindex
X-PUBLISHED-TTL:PT1H
BEGIN:VTIMEZONE
TZID:America/New_York
BEGIN:DAYLIGHT
TZOFFSETFROM:-0500
TZOFFSETTO:-0400
TZNAME:EDT
DTSTART:20160313T070000
END:DAYLIGHT
BEGIN:STANDARD
TZOFFSETFROM:-0400
TZOFFSETTO:-0500
TZNAME:EST
DTSTART:20161106T060000
END:STANDARD
BEGIN:DAYLIGHT
TZOFFSETFROM:-0500
TZOFFSETTO:-0400
TZNAME:EDT
DTSTART:20170312T070000
END:DAYLIGHT
BEGIN:STANDARD
TZOFFSETFROM:-0400
TZOFFSETTO:-0500
TZNAME:EST
DTSTART:20171105T060000
END:STANDARD
BEGIN:DAYLIGHT
TZOFFSETFROM:-0500
TZOFFSETTO:-0400
TZNAME:EDT
DTSTART:20180311T070000
END:DAYLIGHT
BEGIN:STANDARD
TZOFFSETFROM:-0400
TZOFFSETTO:-0500
TZNAME:EST
DTSTART:20181104T060000
END:STANDARD
END:VTIMEZONE
BEGIN:VEVENT
DTSTART;TZID=America/New_York:20170503T180000
DTEND;TZID=America/New_York:20170503T200000
DTSTAMP:20260425T093540
CREATED:20170501T003601Z
LAST-MODIFIED:20170501T225109Z
UID:7246-1493834400-1493841600@wiredwest.net
SUMMARY:WiredWest Executive Committee Meeting
DESCRIPTION:Download
URL:https://wiredwest.net/event/wiredwest-executive-committee-meeting-45/
CATEGORIES:Executive Committee Meeting
END:VEVENT
BEGIN:VEVENT
DTSTART;TZID=America/New_York:20170426T180000
DTEND;TZID=America/New_York:20170426T200000
DTSTAMP:20260425T093540
CREATED:20170424T212134Z
LAST-MODIFIED:20170424T212134Z
UID:7235-1493229600-1493236800@wiredwest.net
SUMMARY:WiredWest Executive Committee Meeting
DESCRIPTION:Download
URL:https://wiredwest.net/event/wiredwest-executive-committee-meeting-44/
CATEGORIES:Executive Committee Meeting
END:VEVENT
BEGIN:VEVENT
DTSTART;TZID=America/New_York:20170419T180000
DTEND;TZID=America/New_York:20170419T200000
DTSTAMP:20260425T093540
CREATED:20170414T120008Z
LAST-MODIFIED:20170418T064014Z
UID:7144-1492624800-1492632000@wiredwest.net
SUMMARY:WiredWest Executive Committee Meeting
DESCRIPTION:Download
URL:https://wiredwest.net/event/wiredwest-executive-committee-meeting-43/
CATEGORIES:Executive Committee Meeting
END:VEVENT
BEGIN:VEVENT
DTSTART;TZID=America/New_York:20170415T093000
DTEND;TZID=America/New_York:20170415T120000
DTSTAMP:20260425T093541
CREATED:20170312T234007Z
LAST-MODIFIED:20170413T004806Z
UID:6975-1492248600-1492257600@wiredwest.net
SUMMARY:WiredWest Board of Directors Meeting
DESCRIPTION:Download
URL:https://wiredwest.net/event/wiredwest-board-directors-meeting-10/
LOCATION:Windsor Town Offices\, 1890 Route 9\, Windsor\, MA\, 01270\, United States
CATEGORIES:Board Meeting
END:VEVENT
BEGIN:VEVENT
DTSTART;TZID=America/New_York:20170412T180000
DTEND;TZID=America/New_York:20170412T200000
DTSTAMP:20260425T093541
CREATED:20170407T011147Z
LAST-MODIFIED:20170410T142147Z
UID:7120-1492020000-1492027200@wiredwest.net
SUMMARY:WiredWest Executive Committee Meeting
DESCRIPTION:Download
URL:https://wiredwest.net/event/wiredwest-executive-committee-meeting-42/
CATEGORIES:Executive Committee Meeting
END:VEVENT
BEGIN:VEVENT
DTSTART;TZID=America/New_York:20170405T180000
DTEND;TZID=America/New_York:20170405T200000
DTSTAMP:20260425T093541
CREATED:20170403T124110Z
LAST-MODIFIED:20170403T124110Z
UID:7096-1491415200-1491422400@wiredwest.net
SUMMARY:WiredWest Outreach Committee Meeting
DESCRIPTION:Loading...\n						\n					\n					\n						\n							\n							Taking too long?\n						\n						\n							\n								 Reload document							\n							|\n							\n								 Open in new tab							\n					\n				\n			\n		Download
URL:https://wiredwest.net/event/wiredwest-outreach-committee-meeting-10/
CATEGORIES:Outreach Committee Meeting
END:VEVENT
BEGIN:VEVENT
DTSTART;TZID=America/New_York:20170405T180000
DTEND;TZID=America/New_York:20170405T200000
DTSTAMP:20260425T093541
CREATED:20170403T114034Z
LAST-MODIFIED:20170404T165206Z
UID:7093-1491415200-1491422400@wiredwest.net
SUMMARY:WiredWest Executive Committee Meeting
DESCRIPTION:Download
URL:https://wiredwest.net/event/wiredwest-executive-committee-meeting-41/
CATEGORIES:Executive Committee Meeting
END:VEVENT
BEGIN:VEVENT
DTSTART;TZID=America/New_York:20170329T180000
DTEND;TZID=America/New_York:20170329T210000
DTSTAMP:20260425T093541
CREATED:20170326T173519Z
LAST-MODIFIED:20170327T193903Z
UID:7013-1490810400-1490821200@wiredwest.net
SUMMARY:WiredWest Executive Committee Meeting
DESCRIPTION:Download
URL:https://wiredwest.net/event/wiredwest-executive-committee-meeting-40/
CATEGORIES:Executive Committee Meeting
END:VEVENT
BEGIN:VEVENT
DTSTART;TZID=America/New_York:20170329T180000
DTEND;TZID=America/New_York:20170329T193000
DTSTAMP:20260425T093541
CREATED:20170327T000501Z
LAST-MODIFIED:20170327T000501Z
UID:7015-1490810400-1490815800@wiredwest.net
SUMMARY:WiredWest Outreach Committee Meeting
DESCRIPTION:Loading...\n						\n					\n					\n						\n							\n							Taking too long?\n						\n						\n							\n								 Reload document							\n							|\n							\n								 Open in new tab							\n					\n				\n			\n		Download
URL:https://wiredwest.net/event/wiredwest-outreach-committee-meeting-9/
CATEGORIES:Outreach Committee Meeting
END:VEVENT
BEGIN:VEVENT
DTSTART;TZID=America/New_York:20170322T180000
DTEND;TZID=America/New_York:20170322T200000
DTSTAMP:20260425T093541
CREATED:20170320T005652Z
LAST-MODIFIED:20170320T203823Z
UID:7003-1490205600-1490212800@wiredwest.net
SUMMARY:WiredWest Executive Committee Meeting
DESCRIPTION:Download
URL:https://wiredwest.net/event/wiredwest-executive-committee-meeting-39/
CATEGORIES:Executive Committee Meeting
END:VEVENT
BEGIN:VEVENT
DTSTART;TZID=America/New_York:20170322T180000
DTEND;TZID=America/New_York:20170322T193000
DTSTAMP:20260425T093541
CREATED:20170320T215247Z
LAST-MODIFIED:20170320T215247Z
UID:7010-1490205600-1490211000@wiredwest.net
SUMMARY:WiredWest Outreach Committee Meeting
DESCRIPTION:Loading...\n						\n					\n					\n						\n							\n							Taking too long?\n						\n						\n							\n								 Reload document							\n							|\n							\n								 Open in new tab							\n					\n				\n			\n		Download
URL:https://wiredwest.net/event/wiredwest-outreach-committee-meeting-8/
CATEGORIES:Outreach Committee Meeting
END:VEVENT
BEGIN:VEVENT
DTSTART;TZID=America/New_York:20170318T093000
DTEND;TZID=America/New_York:20170318T120000
DTSTAMP:20260425T093541
CREATED:20170207T000150Z
LAST-MODIFIED:20170316T025915Z
UID:6773-1489829400-1489838400@wiredwest.net
SUMMARY:WiredWest Board of Directors Meeting
DESCRIPTION:There will be a 15 minute non-public  session from 9:30 to 9:45. Only delegates who have signed a non-disclosure agreement may attend. Immediately following that will be the normal Board Meeting. A revised agenda is below. \nDownload
URL:https://wiredwest.net/event/wiredwest-board-directors-meeting-9/
CATEGORIES:Board Meeting
END:VEVENT
BEGIN:VEVENT
DTSTART;TZID=America/New_York:20170315T180000
DTEND;TZID=America/New_York:20170315T200000
DTSTAMP:20260425T093541
CREATED:20170312T173430Z
LAST-MODIFIED:20170312T174621Z
UID:6965-1489600800-1489608000@wiredwest.net
SUMMARY:WiredWest Executive Committee Meeting
DESCRIPTION:Download
URL:https://wiredwest.net/event/wiredwest-executive-committee-meeting-38/
CATEGORIES:Executive Committee Meeting
END:VEVENT
BEGIN:VEVENT
DTSTART;TZID=America/New_York:20170308T180000
DTEND;TZID=America/New_York:20170308T210000
DTSTAMP:20260425T093541
CREATED:20170306T153159Z
LAST-MODIFIED:20170306T153159Z
UID:6956-1488996000-1489006800@wiredwest.net
SUMMARY:WiredWest Executive Committee Meeting
DESCRIPTION:Download
URL:https://wiredwest.net/event/wiredwest-executive-committee-meeting-36/
CATEGORIES:Executive Committee Meeting
END:VEVENT
BEGIN:VEVENT
DTSTART;TZID=America/New_York:20170301T180000
DTEND;TZID=America/New_York:20170301T200000
DTSTAMP:20260425T093541
CREATED:20170227T200033Z
LAST-MODIFIED:20170227T202807Z
UID:6886-1488391200-1488398400@wiredwest.net
SUMMARY:WiredWest Executive Committee Meeting
DESCRIPTION:Download
URL:https://wiredwest.net/event/wiredwest-executive-committee-meeting-37/
END:VEVENT
BEGIN:VEVENT
DTSTART;TZID=America/New_York:20170225T093000
DTEND;TZID=America/New_York:20170225T120000
DTSTAMP:20260425T093541
CREATED:20170118T115514Z
LAST-MODIFIED:20170223T032254Z
UID:6516-1488015000-1488024000@wiredwest.net
SUMMARY:WiredWest Board of Directors Meeting
DESCRIPTION:In case of snow\, it will be postponed to Wednesday\, March 1 at 6pm at the Northampton Courthouse. \nPosted Jan 18\, 2017; updated Feb 22\, 2017 \nDownload
URL:https://wiredwest.net/event/wiredwest-board-meeting-4/
CATEGORIES:Board Meeting
END:VEVENT
BEGIN:VEVENT
DTSTART;TZID=America/New_York:20170224T180000
DTEND;TZID=America/New_York:20170224T200000
DTSTAMP:20260425T093541
CREATED:20170221T005812Z
LAST-MODIFIED:20170221T014439Z
UID:6831-1487959200-1487966400@wiredwest.net
SUMMARY:WiredWest Executive Committee
DESCRIPTION:Download
URL:https://wiredwest.net/event/wiredwest-executive-committee-4/
CATEGORIES:Executive Committee Meeting
END:VEVENT
BEGIN:VEVENT
DTSTART;TZID=America/New_York:20170224T180000
DTEND;TZID=America/New_York:20170224T193000
DTSTAMP:20260425T093541
CREATED:20170220T231258Z
LAST-MODIFIED:20170221T094826Z
UID:6834-1487959200-1487964600@wiredwest.net
SUMMARY:WiredWest Outreach Committee Meeting
DESCRIPTION:Loading...\n						\n					\n					\n						\n							\n							Taking too long?\n						\n						\n							\n								 Reload document							\n							|\n							\n								 Open in new tab							\n					\n				\n			\n		Download
URL:https://wiredwest.net/event/wiredwest-outreach-committee-meeting-7/
END:VEVENT
BEGIN:VEVENT
DTSTART;TZID=America/New_York:20170215T180000
DTEND;TZID=America/New_York:20170215T200000
DTSTAMP:20260425T093541
CREATED:20170213T143004Z
LAST-MODIFIED:20170213T144306Z
UID:6809-1487181600-1487188800@wiredwest.net
SUMMARY:WiredWest Executive Committee Meeting
DESCRIPTION:Download
URL:https://wiredwest.net/event/wiredwest-executive-committee-meeting-35/
CATEGORIES:Executive Committee Meeting
END:VEVENT
BEGIN:VEVENT
DTSTART;TZID=America/New_York:20170208T200000
DTEND;TZID=America/New_York:20170208T210000
DTSTAMP:20260425T093541
CREATED:20170207T002116Z
LAST-MODIFIED:20170207T002342Z
UID:6779-1486584000-1486587600@wiredwest.net
SUMMARY:WiredWest Outreach Committee Meeting
DESCRIPTION:Loading...\n						\n					\n					\n						\n							\n							Taking too long?\n						\n						\n							\n								 Reload document							\n							|\n							\n								 Open in new tab							\n					\n				\n			\n		Download
URL:https://wiredwest.net/event/wiredwest-outreach-committee-meeting-6/
CATEGORIES:Outreach Committee Meeting
END:VEVENT
BEGIN:VEVENT
DTSTART;TZID=America/New_York:20170208T180000
DTEND;TZID=America/New_York:20170208T200000
DTSTAMP:20260425T093542
CREATED:20170206T235805Z
LAST-MODIFIED:20170206T235805Z
UID:6771-1486576800-1486584000@wiredwest.net
SUMMARY:WiredWest Executive Committee Meeting
DESCRIPTION:WiredWest Executive Committee Meeting Agenda \nDate / time: Wednesday\, February 8\, 2017 6:00 PM \nLocation / address: Hampshire Council of Governments\, 99 Main Street\, Northampton\, MA \n\nApprove minutes of previous meeting – February 1\n\n\nRegional Broadband Solution update\n\n\nMBI update\n\n\nCommittee Updates\n\n\nReview other ongoing work\, including meetings\, conference calls\n\n\nOther business which could not be reasonably foreseen within 48 hours of meeting\n\n\nSet next EC meeting\n\n 
URL:https://wiredwest.net/event/wiredwest-executive-committee-meeting-34/
CATEGORIES:Executive Committee Meeting
END:VEVENT
BEGIN:VEVENT
DTSTART;TZID=America/New_York:20170204T120000
DTEND;TZID=America/New_York:20170204T130000
DTSTAMP:20260425T093542
CREATED:20170202T021535Z
LAST-MODIFIED:20170202T021535Z
UID:6734-1486209600-1486213200@wiredwest.net
SUMMARY:Wired West Outreach Committee Meeting
DESCRIPTION:Loading...\n						\n					\n					\n						\n							\n							Taking too long?\n						\n						\n							\n								 Reload document							\n							|\n							\n								 Open in new tab							\n					\n				\n			\n		Download
URL:https://wiredwest.net/event/wired-west-outreach-committee-meeting/
LOCATION:Becket Town Hall\, 557 Main St\, Becket\, MA\, 01223\, United States
CATEGORIES:Outreach Committee Meeting
END:VEVENT
BEGIN:VEVENT
DTSTART;TZID=America/New_York:20170204T093000
DTEND;TZID=America/New_York:20170204T120000
DTSTAMP:20260425T093542
CREATED:20170118T115253Z
LAST-MODIFIED:20170202T014054Z
UID:6513-1486200600-1486209600@wiredwest.net
SUMMARY:WiredWest Board Meeting
DESCRIPTION:In case of snow\, it will be postponed to Wednesday\, February 8 at 6pm at the Northampton Courthouse. \nPosted Jan 18\, 2017; agenda added Feb 1\, 2017 8:45 pm \nDownload
URL:https://wiredwest.net/event/wiredwest-board-meeting-3/
LOCATION:Becket Town Hall\, 557 Main St\, Becket\, MA\, 01223\, United States
CATEGORIES:Board Meeting
END:VEVENT
BEGIN:VEVENT
DTSTART;TZID=America/New_York:20170201T193000
DTEND;TZID=America/New_York:20170201T210000
DTSTAMP:20260425T093542
CREATED:20170130T030613Z
LAST-MODIFIED:20170130T030613Z
UID:6643-1485977400-1485982800@wiredwest.net
SUMMARY:WiredWest Outreach Committee Meeting
DESCRIPTION:Loading...\n						\n					\n					\n						\n							\n							Taking too long?\n						\n						\n							\n								 Reload document							\n							|\n							\n								 Open in new tab							\n					\n				\n			\n		Download
URL:https://wiredwest.net/event/wiredwest-outreach-committee-meeting-5/
END:VEVENT
BEGIN:VEVENT
DTSTART;TZID=America/New_York:20170201T180000
DTEND;TZID=America/New_York:20170201T200000
DTSTAMP:20260425T093542
CREATED:20170130T190841Z
LAST-MODIFIED:20170130T190841Z
UID:6646-1485972000-1485979200@wiredwest.net
SUMMARY:WiredWest Executive Committee Meeting
DESCRIPTION:WiredWest Executive Committee Meeting Agenda \nDate / time: Wednesday\, February 1\, 2017 6:00 PM \nLocation / address: Hampshire Council of Governments\, 99 Main Street\, Northampton\, MA \n\nApprove minutes of previous meeting – January 25\n\n\nReview and approve draft Selectboard MOU/Resolution\n\n\nRegional Solution Workshop review\n\n\nMBI update\n\n\nCommittee Updates\n\n\nReview other ongoing work\, including meetings\, conference calls\n\n\nOther business which could not be reasonably foreseen within 48 hours of meeting\n\n\nSet next EC meeting\n\n 
URL:https://wiredwest.net/event/wiredwest-executive-committee-meeting-33/
CATEGORIES:Executive Committee Meeting
END:VEVENT
BEGIN:VEVENT
DTSTART;TZID=America/New_York:20170128T093000
DTEND;TZID=America/New_York:20170128T120000
DTSTAMP:20260425T093542
CREATED:20170124T015031Z
LAST-MODIFIED:20170127T031611Z
UID:6545-1485595800-1485604800@wiredwest.net
SUMMARY:WiredWest Regional Broadband Solution Workshop and Board Meeting
DESCRIPTION:Informational Meeting with the General Public\n\nPresentation of WiredWest Solution\nTown-by-Town Analysis\nQuestions & Answers\nNext Steps
URL:https://wiredwest.net/event/wiredwest-regional-solution-workshop/
CATEGORIES:Public Informational Meeting
END:VEVENT
BEGIN:VEVENT
DTSTART;TZID=America/New_York:20170125T193000
DTEND;TZID=America/New_York:20170125T210000
DTSTAMP:20260425T093542
CREATED:20170124T020733Z
LAST-MODIFIED:20170124T020733Z
UID:6562-1485372600-1485378000@wiredwest.net
SUMMARY:WiredWest Outreach Committee Meeting
DESCRIPTION:Loading...\n						\n					\n					\n						\n							\n							Taking too long?\n						\n						\n							\n								 Reload document							\n							|\n							\n								 Open in new tab							\n					\n				\n			\n		Download
URL:https://wiredwest.net/event/wiredwest-outreach-committee-meeting-4/
END:VEVENT
BEGIN:VEVENT
DTSTART;TZID=America/New_York:20170125T180000
DTEND;TZID=America/New_York:20170125T200000
DTSTAMP:20260425T093542
CREATED:20170122T181223Z
LAST-MODIFIED:20170124T020037Z
UID:6542-1485367200-1485374400@wiredwest.net
SUMMARY:WiredWest Executive Committee Meeting
DESCRIPTION:Agenda\n\nApprove minutes of previous meetings – January 11\n\n\nMBI update\n\n\nReview and approve draft Selectboard Resolution\n\n\nRegional Solution Workshop planning\n\n\nCommittee Updates\n\n\nReview other ongoing work\, including meetings\, conference calls\n\n\nOther business which could not be reasonably foreseen within 48 hours of meeting\n\n\nSet next EC meeting
URL:https://wiredwest.net/event/wiredwest-executive-committee-meeting-32/
CATEGORIES:Executive Committee Meeting
END:VEVENT
BEGIN:VEVENT
DTSTART;TZID=America/New_York:20170120T193000
DTEND;TZID=America/New_York:20170120T210000
DTSTAMP:20260425T093542
CREATED:20170118T030841Z
LAST-MODIFIED:20170118T180557Z
UID:6504-1484940600-1484946000@wiredwest.net
SUMMARY:WiredWest Outreach Committee
DESCRIPTION:Download
URL:https://wiredwest.net/event/wiredwest-outreach-committee/
END:VEVENT
BEGIN:VEVENT
DTSTART;TZID=America/New_York:20170120T180000
DTEND;TZID=America/New_York:20170120T193000
DTSTAMP:20260425T093542
CREATED:20170118T173606Z
LAST-MODIFIED:20170118T173606Z
UID:6519-1484935200-1484940600@wiredwest.net
SUMMARY:WiredWest Executive Committee Meeting
DESCRIPTION:Posted 1/18/17 12:35 pm \nDownload
URL:https://wiredwest.net/event/wiredwest-executive-committee-meeting-31/
CATEGORIES:Executive Committee Meeting
END:VEVENT
END:VCALENDAR