BEGIN:VCALENDAR
VERSION:2.0
PRODID:-//WiredWest - ECPv6.15.20//NONSGML v1.0//EN
CALSCALE:GREGORIAN
METHOD:PUBLISH
X-WR-CALNAME:WiredWest
X-ORIGINAL-URL:https://wiredwest.net
X-WR-CALDESC:Events for WiredWest
REFRESH-INTERVAL;VALUE=DURATION:PT1H
X-Robots-Tag:noindex
X-PUBLISHED-TTL:PT1H
BEGIN:VTIMEZONE
TZID:America/New_York
BEGIN:DAYLIGHT
TZOFFSETFROM:-0500
TZOFFSETTO:-0400
TZNAME:EDT
DTSTART:20160313T070000
END:DAYLIGHT
BEGIN:STANDARD
TZOFFSETFROM:-0400
TZOFFSETTO:-0500
TZNAME:EST
DTSTART:20161106T060000
END:STANDARD
BEGIN:DAYLIGHT
TZOFFSETFROM:-0500
TZOFFSETTO:-0400
TZNAME:EDT
DTSTART:20170312T070000
END:DAYLIGHT
BEGIN:STANDARD
TZOFFSETFROM:-0400
TZOFFSETTO:-0500
TZNAME:EST
DTSTART:20171105T060000
END:STANDARD
BEGIN:DAYLIGHT
TZOFFSETFROM:-0500
TZOFFSETTO:-0400
TZNAME:EDT
DTSTART:20180311T070000
END:DAYLIGHT
BEGIN:STANDARD
TZOFFSETFROM:-0400
TZOFFSETTO:-0500
TZNAME:EST
DTSTART:20181104T060000
END:STANDARD
BEGIN:DAYLIGHT
TZOFFSETFROM:-0500
TZOFFSETTO:-0400
TZNAME:EDT
DTSTART:20190310T070000
END:DAYLIGHT
BEGIN:STANDARD
TZOFFSETFROM:-0400
TZOFFSETTO:-0500
TZNAME:EST
DTSTART:20191103T060000
END:STANDARD
END:VTIMEZONE
BEGIN:VEVENT
DTSTART;TZID=America/New_York:20180530T180000
DTEND;TZID=America/New_York:20180530T200000
DTSTAMP:20260425T101252
CREATED:20180530T155425Z
LAST-MODIFIED:20180530T155425Z
UID:8067-1527703200-1527710400@wiredwest.net
SUMMARY:WiredWest Executive Committee Meeting Cancelled
DESCRIPTION:No contracts to review\, meeting is cancelled. \nDownload
URL:https://wiredwest.net/event/wiredwest-executive-committee-meeting-cancelled-2/
CATEGORIES:Executive Committee Meeting
END:VEVENT
BEGIN:VEVENT
DTSTART;TZID=America/New_York:20180523T180000
DTEND;TZID=America/New_York:20180523T203000
DTSTAMP:20260425T101252
CREATED:20180511T154236Z
LAST-MODIFIED:20180522T021322Z
UID:8054-1527098400-1527107400@wiredwest.net
SUMMARY:WiredWest Executive Committee Meeting
DESCRIPTION:Download
URL:https://wiredwest.net/event/wiredwest-executive-committee-meeting-72/
CATEGORIES:Executive Committee Meeting
END:VEVENT
BEGIN:VEVENT
DTSTART;TZID=America/New_York:20180509T180000
DTEND;TZID=America/New_York:20180509T203000
DTSTAMP:20260425T101252
CREATED:20180424T213710Z
LAST-MODIFIED:20180507T153433Z
UID:8020-1525888800-1525897800@wiredwest.net
SUMMARY:WiredWest Executive Committee Meeting
DESCRIPTION:Download
URL:https://wiredwest.net/event/wiredwest-executive-committee-meeting-71/
CATEGORIES:Executive Committee Meeting
END:VEVENT
BEGIN:VEVENT
DTSTART;TZID=America/New_York:20180502T190000
DTEND;TZID=America/New_York:20180502T210000
DTSTAMP:20260425T101252
CREATED:20180305T223016Z
LAST-MODIFIED:20180427T033611Z
UID:7900-1525287600-1525294800@wiredwest.net
SUMMARY:WiredWest Board of Directors Meeting
DESCRIPTION:Download
URL:https://wiredwest.net/event/wiredwest-board-directors-meeting-21/
CATEGORIES:Board Meeting
END:VEVENT
BEGIN:VEVENT
DTSTART;TZID=America/New_York:20180418T183000
DTEND;TZID=America/New_York:20180418T203000
DTSTAMP:20260425T101253
CREATED:20180412T003230Z
LAST-MODIFIED:20180417T194030Z
UID:7973-1524076200-1524083400@wiredwest.net
SUMMARY:WiredWest Executive Committee Meeting
DESCRIPTION:WiredWest Executive Committee Meeting Agenda \nDate / time: Wednesday\, April 18\, 2018 6:30 PM \nLocation / address: Hampshire Council of Governments\, 99 Main Street\, Northampton\, MA \n\nApprove minutes of previous meeting – April 11\n\n  \n\nRegional Broadband Solution\n\n  \n\nWestfield Gas + Electric (WG+E)\n\n  \n\nCommittee Updates\n\n  \n\nReview other ongoing work\, including meetings\, conference calls\n\n  \n\nOther business which could not be reasonably foreseen within 48 hours of meeting\n\n  \n\nSet next EC meeting\n\n 
URL:https://wiredwest.net/event/wiredwest-executive-committee-meeting-70/
END:VEVENT
BEGIN:VEVENT
DTSTART;TZID=America/New_York:20180411T180000
DTEND;TZID=America/New_York:20180411T203000
DTSTAMP:20260425T101253
CREATED:20180408T123102Z
LAST-MODIFIED:20180408T123102Z
UID:7959-1523469600-1523478600@wiredwest.net
SUMMARY:WiredWest Executive Committee Meeting
DESCRIPTION:Download
URL:https://wiredwest.net/event/wiredwest-executive-committee-meeting-69/
CATEGORIES:Executive Committee Meeting
END:VEVENT
BEGIN:VEVENT
DTSTART;TZID=America/New_York:20180404T190000
DTEND;TZID=America/New_York:20180404T210000
DTSTAMP:20260425T101253
CREATED:20180305T222847Z
LAST-MODIFIED:20180330T225456Z
UID:7898-1522868400-1522875600@wiredwest.net
SUMMARY:WiredWest Board of Directors Meeting
DESCRIPTION:Download
URL:https://wiredwest.net/event/wiredwest-board-directors-meeting-20/
CATEGORIES:Board Meeting
END:VEVENT
BEGIN:VEVENT
DTSTART;TZID=America/New_York:20180321T183000
DTEND;TZID=America/New_York:20180321T210000
DTSTAMP:20260425T101253
CREATED:20180305T224435Z
LAST-MODIFIED:20180319T222308Z
UID:7902-1521657000-1521666000@wiredwest.net
SUMMARY:WiredWest Executive Committee Meeting
DESCRIPTION:Download
URL:https://wiredwest.net/event/wiredwest-executive-committee-meeting-68/
CATEGORIES:Executive Committee Meeting
END:VEVENT
BEGIN:VEVENT
DTSTART;TZID=America/New_York:20180317T093000
DTEND;TZID=America/New_York:20180317T120000
DTSTAMP:20260425T101253
CREATED:20180114T204300Z
LAST-MODIFIED:20180314T210103Z
UID:7786-1521279000-1521288000@wiredwest.net
SUMMARY:WiredWest Board of Directors Meeting - Postponed to 3/17
DESCRIPTION:Download
URL:https://wiredwest.net/event/wiredwest-board-directors-meeting-19/
CATEGORIES:Board Meeting
END:VEVENT
BEGIN:VEVENT
DTSTART;TZID=America/New_York:20180228T190000
DTEND;TZID=America/New_York:20180228T203000
DTSTAMP:20260425T101253
CREATED:20180222T142122Z
LAST-MODIFIED:20180226T154922Z
UID:7869-1519844400-1519849800@wiredwest.net
SUMMARY:WiredWest Executive Committee Meeting
DESCRIPTION:WiredWest Executive Committee Meeting Agenda\nDate / time: Wednesday\, February 28\, 2018 6:30 PM\nLocation / address: Hampshire Council of Governments\, 99 Main Street\, Northampton\, MA\n  \n\nApprove minutes of previous meetings – January 31\, 2018 & February 21\n\n  \n\nGovernance Committee\n\n  \n\nPlan for March 7 BoD meeting\n\n  \n\nBond counsel review of contracts\n\n  \n\nRegional Broadband Solution\n\n\nRevenue Sharing\nMOU\nInsurance update\nEdge cases\n\n\nWestfield Gas + Electric (WG+E)\n\n  \n\nCommittee Updates\n\n  \n\nReview other ongoing work\, including meetings\, conference calls\n\n  \n\nOther business which could not be reasonably foreseen within 48 hours of meeting\n\n  \n\nSet next EC meeting\n\n 
URL:https://wiredwest.net/event/wiredwest-executive-committee-meeting-67/
CATEGORIES:Executive Committee Meeting
END:VEVENT
BEGIN:VEVENT
DTSTART;TZID=America/New_York:20180221T180000
DTEND;TZID=America/New_York:20180221T203000
DTSTAMP:20260425T101253
CREATED:20180203T163715Z
LAST-MODIFIED:20180220T192827Z
UID:7831-1519236000-1519245000@wiredwest.net
SUMMARY:WiredWest Executive Committee Meeting
DESCRIPTION:Download
URL:https://wiredwest.net/event/wiredwest-executive-committee-meeting-66/
CATEGORIES:Executive Committee Meeting
END:VEVENT
BEGIN:VEVENT
DTSTART;TZID=America/New_York:20180214T190000
DTEND;TZID=America/New_York:20180214T210000
DTSTAMP:20260425T101253
CREATED:20180114T204128Z
LAST-MODIFIED:20180207T150132Z
UID:7784-1518634800-1518642000@wiredwest.net
SUMMARY:WiredWest Board of Directors Meeting
DESCRIPTION:Download
URL:https://wiredwest.net/event/wiredwest-board-directors-meeting-18/
CATEGORIES:Board Meeting
END:VEVENT
BEGIN:VEVENT
DTSTART;TZID=America/New_York:20180131T180000
DTEND;TZID=America/New_York:20180131T203000
DTSTAMP:20260425T101253
CREATED:20180127T175416Z
LAST-MODIFIED:20180130T221122Z
UID:7806-1517421600-1517430600@wiredwest.net
SUMMARY:WiredWest Executive Committee Meeting
DESCRIPTION:Download
URL:https://wiredwest.net/event/wiredwest-executive-committee-meeting-65/
CATEGORIES:Executive Committee Meeting
END:VEVENT
BEGIN:VEVENT
DTSTART;TZID=America/New_York:20180117T183000
DTEND;TZID=America/New_York:20180117T203000
DTSTAMP:20260425T101253
CREATED:20180106T160627Z
LAST-MODIFIED:20180115T123404Z
UID:7759-1516213800-1516221000@wiredwest.net
SUMMARY:WiredWest Executive Committee Meeting
DESCRIPTION:Download
URL:https://wiredwest.net/event/wiredwest-executive-committee-meeting-64/
CATEGORIES:Executive Committee Meeting
END:VEVENT
BEGIN:VEVENT
DTSTART;TZID=America/New_York:20180110T190000
DTEND;TZID=America/New_York:20180110T210000
DTSTAMP:20260425T101253
CREATED:20171208T015319Z
LAST-MODIFIED:20180106T201104Z
UID:7700-1515610800-1515618000@wiredwest.net
SUMMARY:Wired West Board of Directors Meeting
DESCRIPTION:Download
URL:https://wiredwest.net/event/wired-west-board-directors-meeting/
CATEGORIES:Board Meeting
END:VEVENT
BEGIN:VEVENT
DTSTART;TZID=America/New_York:20180103T180000
DTEND;TZID=America/New_York:20180103T203000
DTSTAMP:20260425T101253
CREATED:20171217T005858Z
LAST-MODIFIED:20171217T005858Z
UID:7723-1515002400-1515011400@wiredwest.net
SUMMARY:WiredWest Executive Committee Meeting
DESCRIPTION:
URL:https://wiredwest.net/event/wiredwest-executive-committee-meeting-63/
CATEGORIES:Executive Committee Meeting
END:VEVENT
BEGIN:VEVENT
DTSTART;TZID=America/New_York:20171220T180000
DTEND;TZID=America/New_York:20171220T203000
DTSTAMP:20260425T101253
CREATED:20171209T173700Z
LAST-MODIFIED:20171220T151051Z
UID:7709-1513792800-1513801800@wiredwest.net
SUMMARY:WiredWest Executive Committee Meeting - Cancelled
DESCRIPTION:Tbis meeting posting was an error.
URL:https://wiredwest.net/event/wiredwest-executive-committee-meeting-62/
CATEGORIES:Executive Committee Meeting
END:VEVENT
BEGIN:VEVENT
DTSTART;TZID=America/New_York:20171213T190000
DTEND;TZID=America/New_York:20171213T210000
DTSTAMP:20260425T101253
CREATED:20171023T144639Z
LAST-MODIFIED:20171208T012401Z
UID:7640-1513191600-1513198800@wiredwest.net
SUMMARY:WiredWest Board of Directors Meeting
DESCRIPTION:Download
URL:https://wiredwest.net/event/wiredwest-board-directors-meeting-17/
CATEGORIES:Board Meeting
END:VEVENT
BEGIN:VEVENT
DTSTART;TZID=America/New_York:20171207T180000
DTEND;TZID=America/New_York:20171207T210000
DTSTAMP:20260425T101253
CREATED:20171201T015629Z
LAST-MODIFIED:20171205T204529Z
UID:7677-1512669600-1512680400@wiredwest.net
SUMMARY:WiredWest Executive Committee Meeting
DESCRIPTION:  \nWiredWest Executive Committee Meeting Agenda \nDate / time: Thursday\, December 7\, 2017 6:00 PM \nLocation / address: Hampshire Council of Governments\, 99 Main Street\, Northampton\, MA \n\nApprove minutes of previous meeting – November 30\nPlan for Dec 13 Board of Director’s meeting\n\nAgenda\n\n\nRegional Broadband Solution\n\nMOU\n\n\nWG+E\nCommittee Updates\nReview other ongoing work\, including meetings\, conference calls\nOther business which could not be reasonably foreseen within 48 hours of meeting\nSet next EC meeting\n\n 
URL:https://wiredwest.net/event/wiredwest-executive-committee-meeting-61/
CATEGORIES:Executive Committee Meeting
END:VEVENT
BEGIN:VEVENT
DTSTART;TZID=America/New_York:20171130T180000
DTEND;TZID=America/New_York:20171130T203000
DTSTAMP:20260425T101253
CREATED:20171107T133824Z
LAST-MODIFIED:20171127T230650Z
UID:7654-1512064800-1512073800@wiredwest.net
SUMMARY:WiredWest Executive Committee Meeting
DESCRIPTION:Download
URL:https://wiredwest.net/event/wiredwest-executive-committee-meeting-60/
CATEGORIES:Executive Committee Meeting
END:VEVENT
BEGIN:VEVENT
DTSTART;TZID=America/New_York:20171115T190000
DTEND;TZID=America/New_York:20171115T210000
DTSTAMP:20260425T101253
CREATED:20171023T144522Z
LAST-MODIFIED:20171113T154105Z
UID:7638-1510772400-1510779600@wiredwest.net
SUMMARY:WiredWest Board of Directors Meeting
DESCRIPTION:Download
URL:https://wiredwest.net/event/wiredwest-board-directors-meeting-16/
CATEGORIES:Board Meeting
END:VEVENT
BEGIN:VEVENT
DTSTART;TZID=America/New_York:20171101T180000
DTEND;TZID=America/New_York:20171101T203000
DTSTAMP:20260425T101253
CREATED:20171012T112745Z
LAST-MODIFIED:20171031T010517Z
UID:7626-1509559200-1509568200@wiredwest.net
SUMMARY:WiredWest Executive Committee Meeting
DESCRIPTION:Download
URL:https://wiredwest.net/event/wiredwest-executive-committee-meeting-59/
CATEGORIES:Executive Committee Meeting
END:VEVENT
BEGIN:VEVENT
DTSTART;TZID=America/New_York:20171018T190000
DTEND;TZID=America/New_York:20171018T210000
DTSTAMP:20260425T101253
CREATED:20170915T115804Z
LAST-MODIFIED:20171012T112508Z
UID:7586-1508353200-1508360400@wiredwest.net
SUMMARY:WiredWest Board of Directors Meeting
DESCRIPTION:Download
URL:https://wiredwest.net/event/wiredwest-board-directors-meeting-15/
CATEGORIES:Board Meeting
END:VEVENT
BEGIN:VEVENT
DTSTART;TZID=America/New_York:20171011T180000
DTEND;TZID=America/New_York:20171011T200000
DTSTAMP:20260425T101253
CREATED:20171006T161251Z
LAST-MODIFIED:20171011T223535Z
UID:7613-1507744800-1507752000@wiredwest.net
SUMMARY:WiredWest Executive Committee Meeting
DESCRIPTION:Download
URL:https://wiredwest.net/event/wiredwest-executive-committee-meeting-58/
CATEGORIES:Executive Committee Meeting
END:VEVENT
BEGIN:VEVENT
DTSTART;TZID=America/New_York:20171004T180000
DTEND;TZID=America/New_York:20171004T203000
DTSTAMP:20260425T101253
CREATED:20170926T113854Z
LAST-MODIFIED:20171002T144507Z
UID:7598-1507140000-1507149000@wiredwest.net
SUMMARY:WiredWest Executive Committee Meeting
DESCRIPTION:Download
URL:https://wiredwest.net/event/wiredwest-executive-committee-meeting-57/
CATEGORIES:Executive Committee Meeting
END:VEVENT
BEGIN:VEVENT
DTSTART;TZID=America/New_York:20170920T183000
DTEND;TZID=America/New_York:20170920T200000
DTSTAMP:20260425T101253
CREATED:20170908T151924Z
LAST-MODIFIED:20170918T140326Z
UID:7566-1505932200-1505937600@wiredwest.net
SUMMARY:WiredWest Executive Committee Meeting
DESCRIPTION:Download
URL:https://wiredwest.net/event/wiredwest-executive-committee-meeting-56/
CATEGORIES:Executive Committee Meeting
END:VEVENT
BEGIN:VEVENT
DTSTART;TZID=America/New_York:20170913T190000
DTEND;TZID=America/New_York:20170913T203000
DTSTAMP:20260425T101253
CREATED:20170717T125904Z
LAST-MODIFIED:20170907T111003Z
UID:7474-1505329200-1505334600@wiredwest.net
SUMMARY:WiredWest Board of Directors Meeting
DESCRIPTION:Download
URL:https://wiredwest.net/event/wiredwest-board-directors-meeting-14/
CATEGORIES:Board Meeting
END:VEVENT
BEGIN:VEVENT
DTSTART;TZID=America/New_York:20170906T180000
DTEND;TZID=America/New_York:20170906T200000
DTSTAMP:20260425T101253
CREATED:20170817T131119Z
LAST-MODIFIED:20170904T154906Z
UID:7546-1504720800-1504728000@wiredwest.net
SUMMARY:WiredWest Executive Committee Meeting
DESCRIPTION:Download
URL:https://wiredwest.net/event/wiredwest-executive-committee-meeting-55/
CATEGORIES:Executive Committee Meeting
END:VEVENT
BEGIN:VEVENT
DTSTART;TZID=America/New_York:20170816T183000
DTEND;TZID=America/New_York:20170816T203000
DTSTAMP:20260425T101253
CREATED:20170809T220828Z
LAST-MODIFIED:20170814T200406Z
UID:7529-1502908200-1502915400@wiredwest.net
SUMMARY:WiredWest Executive Committee Meeting
DESCRIPTION:WiredWest Executive Committee Meeting Agenda \nDate / time: Wednesday\, August 16\, 2017 6:00 PM \nLocation / address: Hampshire Council of Governments\, 99 Main Street\, Northampton\, MA\n1. Approve minutes of previous meeting – August 2\n2. Regional Broadband Solution \na. Bill payment \n3. MLP support \na. Communication re: Pole applications \nb. Workshop \n4. WG+E \n5. September 13 BoD meeting \n6. Committee Updates \n7. Review other ongoing work\, including meetings\, conference calls \n8. Other business which could not be reasonably foreseen within 48 hours of meeting \n9. Set next EC meeting
URL:https://wiredwest.net/event/wiredwest-executive-committee-meeting-54/
CATEGORIES:Executive Committee Meeting
END:VEVENT
BEGIN:VEVENT
DTSTART;TZID=America/New_York:20170809T190000
DTEND;TZID=America/New_York:20170809T203000
DTSTAMP:20260425T101253
CREATED:20170717T125747Z
LAST-MODIFIED:20170722T162939Z
UID:7471-1502305200-1502310600@wiredwest.net
SUMMARY:Cancelled - WiredWest Board of Directors Meeting
DESCRIPTION:
URL:https://wiredwest.net/event/wiredwest-board-directors-meeting-13/
CATEGORIES:Board Meeting
END:VEVENT
END:VCALENDAR