BEGIN:VCALENDAR
VERSION:2.0
PRODID:-//WiredWest - ECPv6.15.20//NONSGML v1.0//EN
CALSCALE:GREGORIAN
METHOD:PUBLISH
X-WR-CALNAME:WiredWest
X-ORIGINAL-URL:https://wiredwest.net
X-WR-CALDESC:Events for WiredWest
REFRESH-INTERVAL;VALUE=DURATION:PT1H
X-Robots-Tag:noindex
X-PUBLISHED-TTL:PT1H
BEGIN:VTIMEZONE
TZID:America/New_York
BEGIN:DAYLIGHT
TZOFFSETFROM:-0500
TZOFFSETTO:-0400
TZNAME:EDT
DTSTART:20180311T070000
END:DAYLIGHT
BEGIN:STANDARD
TZOFFSETFROM:-0400
TZOFFSETTO:-0500
TZNAME:EST
DTSTART:20181104T060000
END:STANDARD
BEGIN:DAYLIGHT
TZOFFSETFROM:-0500
TZOFFSETTO:-0400
TZNAME:EDT
DTSTART:20190310T070000
END:DAYLIGHT
BEGIN:STANDARD
TZOFFSETFROM:-0400
TZOFFSETTO:-0500
TZNAME:EST
DTSTART:20191103T060000
END:STANDARD
BEGIN:DAYLIGHT
TZOFFSETFROM:-0500
TZOFFSETTO:-0400
TZNAME:EDT
DTSTART:20200308T070000
END:DAYLIGHT
BEGIN:STANDARD
TZOFFSETFROM:-0400
TZOFFSETTO:-0500
TZNAME:EST
DTSTART:20201101T060000
END:STANDARD
BEGIN:DAYLIGHT
TZOFFSETFROM:-0500
TZOFFSETTO:-0400
TZNAME:EDT
DTSTART:20210314T070000
END:DAYLIGHT
BEGIN:STANDARD
TZOFFSETFROM:-0400
TZOFFSETTO:-0500
TZNAME:EST
DTSTART:20211107T060000
END:STANDARD
END:VTIMEZONE
BEGIN:VEVENT
DTSTART;TZID=America/New_York:20200102T190000
DTEND;TZID=America/New_York:20200102T210000
DTSTAMP:20260424T070317
CREATED:20191211T160039Z
LAST-MODIFIED:20191227T220447Z
UID:10854-1577991600-1577998800@wiredwest.net
SUMMARY:WiredWest Executive Committee Meeting
DESCRIPTION:Download
URL:https://wiredwest.net/event/wiredwest-executive-committee-meeting-103/
LOCATION:MA
CATEGORIES:Executive Committee Meeting
END:VEVENT
BEGIN:VEVENT
DTSTART;TZID=America/New_York:20191211T190000
DTEND;TZID=America/New_York:20191211T203000
DTSTAMP:20260424T070317
CREATED:20190925T221133Z
LAST-MODIFIED:20191208T141838Z
UID:10336-1576090800-1576096200@wiredwest.net
SUMMARY:WiredWest Board of Directors Meeting
DESCRIPTION:Download
URL:https://wiredwest.net/event/wiredwest-board-of-directors-meeting-22/
LOCATION:MA
CATEGORIES:Board Meeting
END:VEVENT
BEGIN:VEVENT
DTSTART;TZID=America/New_York:20191204T190000
DTEND;TZID=America/New_York:20191204T210000
DTSTAMP:20260424T070317
CREATED:20191108T145858Z
LAST-MODIFIED:20191201T153916Z
UID:10744-1575486000-1575493200@wiredwest.net
SUMMARY:WiredWest Executive Committee Meeting
DESCRIPTION:Download
URL:https://wiredwest.net/event/wiredwest-executive-committee-meeting-102/
LOCATION:MA
CATEGORIES:Executive Committee Meeting
END:VEVENT
BEGIN:VEVENT
DTSTART;TZID=America/New_York:20191113T190000
DTEND;TZID=America/New_York:20191113T203000
DTSTAMP:20260424T070317
CREATED:20190925T220942Z
LAST-MODIFIED:20191108T145344Z
UID:10334-1573671600-1573677000@wiredwest.net
SUMMARY:WiredWest Board of Directors Meeting
DESCRIPTION:Download
URL:https://wiredwest.net/event/wiredwest-board-of-directors-meeting-21/
LOCATION:MA
CATEGORIES:Board Meeting
END:VEVENT
BEGIN:VEVENT
DTSTART;TZID=America/New_York:20191030T190000
DTEND;TZID=America/New_York:20191030T203000
DTSTAMP:20260424T070317
CREATED:20191014T132313Z
LAST-MODIFIED:20191028T234757Z
UID:10536-1572462000-1572467400@wiredwest.net
SUMMARY:WiredWest Executive Committee Meeting
DESCRIPTION:Download
URL:https://wiredwest.net/event/wiredwest-executive-committee-meeting-101/
LOCATION:MA
CATEGORIES:Executive Committee Meeting
END:VEVENT
BEGIN:VEVENT
DTSTART;TZID=America/New_York:20191016T190000
DTEND;TZID=America/New_York:20191016T203000
DTSTAMP:20260424T070317
CREATED:20190826T195018Z
LAST-MODIFIED:20191016T205850Z
UID:10221-1571252400-1571257800@wiredwest.net
SUMMARY:WiredWest Board of Directors Meeting
DESCRIPTION:Download
URL:https://wiredwest.net/event/wiredwest-board-of-directors-meeting-20/
LOCATION:MA
CATEGORIES:Board Meeting
END:VEVENT
BEGIN:VEVENT
DTSTART;TZID=America/New_York:20191002T190000
DTEND;TZID=America/New_York:20191002T203000
DTSTAMP:20260424T070317
CREATED:20190830T182736Z
LAST-MODIFIED:20190930T220643Z
UID:10251-1570042800-1570048200@wiredwest.net
SUMMARY:WiredWest Executive Committee Meeting
DESCRIPTION:Download
URL:https://wiredwest.net/event/wiredwest-executive-committee-meeting-100/
LOCATION:MA
CATEGORIES:Executive Committee Meeting
END:VEVENT
BEGIN:VEVENT
DTSTART;TZID=America/New_York:20190918T190000
DTEND;TZID=America/New_York:20190918T210000
DTSTAMP:20260424T070317
CREATED:20190714T232412Z
LAST-MODIFIED:20190830T182536Z
UID:10112-1568833200-1568840400@wiredwest.net
SUMMARY:WiredWest Board of Directors Meeting
DESCRIPTION:Download
URL:https://wiredwest.net/event/wiredwest-board-of-directors-meeting-19/
LOCATION:MA
CATEGORIES:Board Meeting
END:VEVENT
BEGIN:VEVENT
DTSTART;TZID=America/New_York:20190828T190000
DTEND;TZID=America/New_York:20190828T203000
DTSTAMP:20260424T070317
CREATED:20190826T192609Z
LAST-MODIFIED:20190826T204359Z
UID:10219-1567018800-1567024200@wiredwest.net
SUMMARY:WiredWest Executive Committee Meeting
DESCRIPTION:Download
URL:https://wiredwest.net/event/wiredwest-executive-committee-meeting-99/
LOCATION:MA
CATEGORIES:Executive Committee Meeting
END:VEVENT
BEGIN:VEVENT
DTSTART;TZID=America/New_York:20190821T190000
DTEND;TZID=America/New_York:20190821T210000
DTSTAMP:20260424T070317
CREATED:20190623T223237Z
LAST-MODIFIED:20190819T200429Z
UID:10070-1566414000-1566421200@wiredwest.net
SUMMARY:WiredWest Board of Directors Meeting
DESCRIPTION:Download
URL:https://wiredwest.net/event/wiredwest-board-of-directors-meeting-18/
LOCATION:MA
CATEGORIES:Board Meeting
END:VEVENT
BEGIN:VEVENT
DTSTART;TZID=America/New_York:20190814T190000
DTEND;TZID=America/New_York:20190814T203000
DTSTAMP:20260424T070317
CREATED:20190730T010628Z
LAST-MODIFIED:20190812T180355Z
UID:10145-1565809200-1565814600@wiredwest.net
SUMMARY:WiredWest Executive Committee Meeting
DESCRIPTION:Download
URL:https://wiredwest.net/event/wiredwest-executive-committee-meeting-98/
LOCATION:MA
CATEGORIES:Executive Committee Meeting
END:VEVENT
BEGIN:VEVENT
DTSTART;TZID=America/New_York:20190731T190000
DTEND;TZID=America/New_York:20190731T200000
DTSTAMP:20260424T070317
CREATED:20190726T174150Z
LAST-MODIFIED:20190730T010420Z
UID:10135-1564599600-1564603200@wiredwest.net
SUMMARY:WiredWest Executive Committee Meeting
DESCRIPTION: Agenda \n\nApprove minutes of previous meeting – July 24\nBusiness phone service\nWG&E contract update\nWG&E contract vote (if needed)\nNext EC meeting –
URL:https://wiredwest.net/event/wiredwest-executive-committee-meeting-97/
LOCATION:MA
END:VEVENT
BEGIN:VEVENT
DTSTART;TZID=America/New_York:20190724T190000
DTEND;TZID=America/New_York:20190724T210000
DTSTAMP:20260424T070317
CREATED:20190623T222841Z
LAST-MODIFIED:20190722T203607Z
UID:10068-1563994800-1564002000@wiredwest.net
SUMMARY:WiredWest Executive Committee Meeting
DESCRIPTION:Download
URL:https://wiredwest.net/event/wiredwest-executive-committee-meeting-96/
LOCATION:MA
CATEGORIES:Executive Committee Meeting
END:VEVENT
BEGIN:VEVENT
DTSTART;TZID=America/New_York:20190710T190000
DTEND;TZID=America/New_York:20190710T210000
DTSTAMP:20260424T070317
CREATED:20190528T143844Z
LAST-MODIFIED:20190706T195414Z
UID:10008-1562785200-1562792400@wiredwest.net
SUMMARY:WiredWest Board of Directors Meeting
DESCRIPTION:Download
URL:https://wiredwest.net/event/wiredwest-board-of-directors-meeting-17/
LOCATION:MA
CATEGORIES:Board Meeting
END:VEVENT
BEGIN:VEVENT
DTSTART;TZID=America/New_York:20190626T183000
DTEND;TZID=America/New_York:20190626T203000
DTSTAMP:20260424T070317
CREATED:20190606T142032Z
LAST-MODIFIED:20190624T183415Z
UID:10036-1561573800-1561581000@wiredwest.net
SUMMARY:WiredWest Executive Committee Meeting
DESCRIPTION:Download
URL:https://wiredwest.net/event/wiredwest-executive-committee-meeting-94/
LOCATION:MA
CATEGORIES:Executive Committee Meeting
END:VEVENT
BEGIN:VEVENT
DTSTART;TZID=America/New_York:20190612T190000
DTEND;TZID=America/New_York:20190612T203000
DTSTAMP:20260424T070317
CREATED:20190414T222502Z
LAST-MODIFIED:20190610T132851Z
UID:9918-1560366000-1560371400@wiredwest.net
SUMMARY:WiredWest Board of Directors Meeting
DESCRIPTION:Download
URL:https://wiredwest.net/event/wiredwest-board-of-directors-meeting-16/
LOCATION:MA
CATEGORIES:Board Meeting
END:VEVENT
BEGIN:VEVENT
DTSTART;TZID=America/New_York:20190529T180000
DTEND;TZID=America/New_York:20190529T200000
DTSTAMP:20260424T070317
CREATED:20190528T143631Z
LAST-MODIFIED:20190528T144017Z
UID:10005-1559152800-1559160000@wiredwest.net
SUMMARY:WiredWest Executive Committee Meeting
DESCRIPTION:Download
URL:https://wiredwest.net/event/wiredwest-executive-committee-meeting-95/
LOCATION:MA
CATEGORIES:Executive Committee Meeting
END:VEVENT
BEGIN:VEVENT
DTSTART;TZID=America/New_York:20190522T190000
DTEND;TZID=America/New_York:20190522T203000
DTSTAMP:20260424T070317
CREATED:20190324T183829Z
LAST-MODIFIED:20190516T203809Z
UID:8691-1558551600-1558557000@wiredwest.net
SUMMARY:WiredWest Board of Directors Meeting
DESCRIPTION:Download
URL:https://wiredwest.net/event/wiredwest-board-of-directors-meeting-15/
LOCATION:MA
CATEGORIES:Board Meeting
END:VEVENT
BEGIN:VEVENT
DTSTART;TZID=America/New_York:20190507T173000
DTEND;TZID=America/New_York:20190507T190000
DTSTAMP:20260424T070317
CREATED:20190502T180806Z
LAST-MODIFIED:20190506T140216Z
UID:9951-1557250200-1557255600@wiredwest.net
SUMMARY:WiredWest Executive Committee Meeting
DESCRIPTION:WiredWest Executive Committee Meeting Minutes \nDate / time: Tuesday\, 7 May 2019 5:30 PM \nLocation / address: Hampshire Council of Governments\, 99 Main Street\, Northampton\, MA \n\nApprove minutes of May 1\, 2019 meeting\nReview updated WG+E contract
URL:https://wiredwest.net/event/wiredwest-executive-committee-meeting-93/
LOCATION:MA
CATEGORIES:Executive Committee Meeting
END:VEVENT
BEGIN:VEVENT
DTSTART;TZID=America/New_York:20190501T180000
DTEND;TZID=America/New_York:20190501T200000
DTSTAMP:20260424T070317
CREATED:20190428T134038Z
LAST-MODIFIED:20190428T134038Z
UID:9941-1556733600-1556740800@wiredwest.net
SUMMARY:WiredWest Executive Committee Meeting
DESCRIPTION:Download
URL:https://wiredwest.net/event/wiredwest-executive-committee-meeting-92/
LOCATION:MA
CATEGORIES:Executive Committee Meeting
END:VEVENT
BEGIN:VEVENT
DTSTART;TZID=America/New_York:20190417T183000
DTEND;TZID=America/New_York:20190417T203000
DTSTAMP:20260424T070317
CREATED:20190405T204516Z
LAST-MODIFIED:20190415T155746Z
UID:9882-1555525800-1555533000@wiredwest.net
SUMMARY:WiredWest Executive Committee Meeting
DESCRIPTION:Download
URL:https://wiredwest.net/event/wiredwest-executive-committee-meeting-91/
LOCATION:MA
CATEGORIES:Executive Committee Meeting
END:VEVENT
BEGIN:VEVENT
DTSTART;TZID=America/New_York:20190410T190000
DTEND;TZID=America/New_York:20190410T210000
DTSTAMP:20260424T070317
CREATED:20190220T202011Z
LAST-MODIFIED:20190405T203700Z
UID:8639-1554922800-1554930000@wiredwest.net
SUMMARY:WiredWest Board of Directors Meeting
DESCRIPTION:Download
URL:https://wiredwest.net/event/wiredwest-board-of-directors-meeting-14/
LOCATION:MA
CATEGORIES:Board Meeting
END:VEVENT
BEGIN:VEVENT
DTSTART;TZID=America/New_York:20190327T180000
DTEND;TZID=America/New_York:20190327T203000
DTSTAMP:20260424T070317
CREATED:20190322T172651Z
LAST-MODIFIED:20190325T234604Z
UID:8670-1553709600-1553718600@wiredwest.net
SUMMARY:WiredWest Executive Committee Meeting
DESCRIPTION:Download
URL:https://wiredwest.net/event/wiredwest-executive-committee-meeting-90/
LOCATION:MA
CATEGORIES:Executive Committee Meeting
END:VEVENT
BEGIN:VEVENT
DTSTART;TZID=America/New_York:20190313T190000
DTEND;TZID=America/New_York:20190313T203000
DTSTAMP:20260424T070317
CREATED:20190210T172658Z
LAST-MODIFIED:20190310T160939Z
UID:8614-1552503600-1552509000@wiredwest.net
SUMMARY:WiredWest Board of Directors Meeting
DESCRIPTION:Snow date March 20. \nDownload
URL:https://wiredwest.net/event/wiredwest-board-of-directors-meeting-13/
LOCATION:MA
CATEGORIES:Board Meeting
END:VEVENT
BEGIN:VEVENT
DTSTART;TZID=America/New_York:20190306T180000
DTEND;TZID=America/New_York:20190306T203000
DTSTAMP:20260424T070317
CREATED:20190304T153124Z
LAST-MODIFIED:20190304T175043Z
UID:8651-1551895200-1551904200@wiredwest.net
SUMMARY:WiredWest Executive Committee Meeting
DESCRIPTION:Download
URL:https://wiredwest.net/event/wiredwest-executive-committee-meeting-89/
LOCATION:MA
CATEGORIES:Executive Committee Meeting
END:VEVENT
BEGIN:VEVENT
DTSTART;TZID=America/New_York:20190227T183000
DTEND;TZID=America/New_York:20190227T203000
DTSTAMP:20260424T070317
CREATED:20190220T201648Z
LAST-MODIFIED:20190226T113848Z
UID:8635-1551292200-1551299400@wiredwest.net
SUMMARY:WiredWest Executive Committee Meeting
DESCRIPTION:Download
URL:https://wiredwest.net/event/wiredwest-executive-committee-meeting-88/
LOCATION:MA
CATEGORIES:Executive Committee Meeting
END:VEVENT
BEGIN:VEVENT
DTSTART;TZID=America/New_York:20190220T183000
DTEND;TZID=America/New_York:20190220T203000
DTSTAMP:20260424T070317
CREATED:20190204T173255Z
LAST-MODIFIED:20190220T201816Z
UID:8612-1550687400-1550694600@wiredwest.net
SUMMARY:WiredWest Executive Committee Meeting - CANCELLED
DESCRIPTION:Update 2/20/19 3:00 pm – Meeting postponed to 2/27 due to inclement weather \n 
URL:https://wiredwest.net/event/wiredwest-executive-committee-meeting-87/
LOCATION:MA
CATEGORIES:Executive Committee Meeting
END:VEVENT
BEGIN:VEVENT
DTSTART;TZID=America/New_York:20190213T190000
DTEND;TZID=America/New_York:20190213T210000
DTSTAMP:20260424T070317
CREATED:20190102T214614Z
LAST-MODIFIED:20190210T172944Z
UID:8523-1550084400-1550091600@wiredwest.net
SUMMARY:WiredWest Board of Directors Meeting
DESCRIPTION:Snow date February 20. \nDownload
URL:https://wiredwest.net/event/wiredwest-board-of-directors-meeting-12/
LOCATION:MA
CATEGORIES:Board Meeting
END:VEVENT
BEGIN:VEVENT
DTSTART;TZID=America/New_York:20190130T180000
DTEND;TZID=America/New_York:20190130T203000
DTSTAMP:20260424T070317
CREATED:20190105T170554Z
LAST-MODIFIED:20190128T131707Z
UID:8551-1548871200-1548880200@wiredwest.net
SUMMARY:WiredWest Executive Committee Meeting
DESCRIPTION:Download
URL:https://wiredwest.net/event/wiredwest-executive-committee-meeting-86/
LOCATION:MA
CATEGORIES:Executive Committee Meeting
END:VEVENT
BEGIN:VEVENT
DTSTART;TZID=America/New_York:20190116T190000
DTEND;TZID=America/New_York:20190116T210000
DTSTAMP:20260424T070317
CREATED:20181202T214842Z
LAST-MODIFIED:20190103T003507Z
UID:8457-1547665200-1547672400@wiredwest.net
SUMMARY:WiredWest Board of Directors Meeting
DESCRIPTION:Download  Snow Date January 23
URL:https://wiredwest.net/event/wiredwest-board-of-directors-meeting-11/
LOCATION:MA
CATEGORIES:Board Meeting
END:VEVENT
END:VCALENDAR