BEGIN:VCALENDAR
VERSION:2.0
PRODID:-//WiredWest - ECPv6.15.20//NONSGML v1.0//EN
CALSCALE:GREGORIAN
METHOD:PUBLISH
X-WR-CALNAME:WiredWest
X-ORIGINAL-URL:https://wiredwest.net
X-WR-CALDESC:Events for WiredWest
REFRESH-INTERVAL;VALUE=DURATION:PT1H
X-Robots-Tag:noindex
X-PUBLISHED-TTL:PT1H
BEGIN:VTIMEZONE
TZID:America/New_York
BEGIN:DAYLIGHT
TZOFFSETFROM:-0500
TZOFFSETTO:-0400
TZNAME:EDT
DTSTART:20250309T070000
END:DAYLIGHT
BEGIN:STANDARD
TZOFFSETFROM:-0400
TZOFFSETTO:-0500
TZNAME:EST
DTSTART:20251102T060000
END:STANDARD
BEGIN:DAYLIGHT
TZOFFSETFROM:-0500
TZOFFSETTO:-0400
TZNAME:EDT
DTSTART:20260308T070000
END:DAYLIGHT
BEGIN:STANDARD
TZOFFSETFROM:-0400
TZOFFSETTO:-0500
TZNAME:EST
DTSTART:20261101T060000
END:STANDARD
BEGIN:DAYLIGHT
TZOFFSETFROM:-0500
TZOFFSETTO:-0400
TZNAME:EDT
DTSTART:20270314T070000
END:DAYLIGHT
BEGIN:STANDARD
TZOFFSETFROM:-0400
TZOFFSETTO:-0500
TZNAME:EST
DTSTART:20271107T060000
END:STANDARD
END:VTIMEZONE
BEGIN:VEVENT
DTSTART;TZID=America/New_York:20260505T183000
DTEND;TZID=America/New_York:20260505T193000
DTSTAMP:20260423T200347
CREATED:20260301T195556Z
LAST-MODIFIED:20260415T233121Z
UID:13012-1778005800-1778009400@wiredwest.net
SUMMARY:WiredWest Board of Directors Meeting
DESCRIPTION:
URL:https://wiredwest.net/event/wiredwest-board-of-directors-meeting-121/
LOCATION:WW Meetings 2024-2025
CATEGORIES:Board Meeting
END:VEVENT
BEGIN:VEVENT
DTSTART;TZID=America/New_York:20260520T183000
DTEND;TZID=America/New_York:20260520T200000
DTSTAMP:20260423T200347
CREATED:20260301T195807Z
LAST-MODIFIED:20260301T200033Z
UID:13014-1779301800-1779307200@wiredwest.net
SUMMARY:WiredWest Board of Directors Meeting
DESCRIPTION:
URL:https://wiredwest.net/event/wiredwest-board-of-directors-meeting-122/
LOCATION:WW Meetings 2024-2025
CATEGORIES:Board Meeting
END:VEVENT
BEGIN:VEVENT
DTSTART;TZID=America/New_York:20260603T183000
DTEND;TZID=America/New_York:20260603T193000
DTSTAMP:20260423T200347
CREATED:20260301T200244Z
LAST-MODIFIED:20260301T200244Z
UID:13018-1780511400-1780515000@wiredwest.net
SUMMARY:WiredWest Board of Directors Meeting
DESCRIPTION:
URL:https://wiredwest.net/event/wiredwest-board-of-directors-meeting-123/
LOCATION:WW Meetings 2024-2025
CATEGORIES:Board Meeting
END:VEVENT
BEGIN:VEVENT
DTSTART;TZID=America/New_York:20260617T183000
DTEND;TZID=America/New_York:20260617T200000
DTSTAMP:20260423T200347
CREATED:20260301T200357Z
LAST-MODIFIED:20260301T200357Z
UID:13020-1781721000-1781726400@wiredwest.net
SUMMARY:WiredWest Board of Directors Meeting
DESCRIPTION:
URL:https://wiredwest.net/event/wiredwest-board-of-directors-meeting-124/
LOCATION:WW Meetings 2024-2025
CATEGORIES:Board Meeting
END:VEVENT
END:VCALENDAR