BEGIN:VCALENDAR
VERSION:2.0
PRODID:-//WiredWest - ECPv6.15.20//NONSGML v1.0//EN
CALSCALE:GREGORIAN
METHOD:PUBLISH
X-ORIGINAL-URL:https://wiredwest.net
X-WR-CALDESC:Events for WiredWest
REFRESH-INTERVAL;VALUE=DURATION:PT1H
X-Robots-Tag:noindex
X-PUBLISHED-TTL:PT1H
BEGIN:VTIMEZONE
TZID:America/New_York
BEGIN:DAYLIGHT
TZOFFSETFROM:-0500
TZOFFSETTO:-0400
TZNAME:EDT
DTSTART:20150308T070000
END:DAYLIGHT
BEGIN:STANDARD
TZOFFSETFROM:-0400
TZOFFSETTO:-0500
TZNAME:EST
DTSTART:20151101T060000
END:STANDARD
BEGIN:DAYLIGHT
TZOFFSETFROM:-0500
TZOFFSETTO:-0400
TZNAME:EDT
DTSTART:20160313T070000
END:DAYLIGHT
BEGIN:STANDARD
TZOFFSETFROM:-0400
TZOFFSETTO:-0500
TZNAME:EST
DTSTART:20161106T060000
END:STANDARD
BEGIN:DAYLIGHT
TZOFFSETFROM:-0500
TZOFFSETTO:-0400
TZNAME:EDT
DTSTART:20170312T070000
END:DAYLIGHT
BEGIN:STANDARD
TZOFFSETFROM:-0400
TZOFFSETTO:-0500
TZNAME:EST
DTSTART:20171105T060000
END:STANDARD
END:VTIMEZONE
BEGIN:VEVENT
DTSTART;TZID=America/New_York:20160608T180000
DTEND;TZID=America/New_York:20160608T200000
DTSTAMP:20260424T015241
CREATED:20160603T131817Z
LAST-MODIFIED:20160609T125410Z
UID:5297-1465408800-1465416000@wiredwest.net
SUMMARY:WiredWest Executive Committee Meeting
DESCRIPTION:  \nAgenda updated 7 June 2016 11:31 am \nA quorum was not present\, so no official meeting. \n			\n				\n					\n						\n							\n							Loading...\n						\n					\n					\n						\n							\n							Taking too long?\n						\n						\n							\n								 Reload document							\n							|\n							\n								 Open in new tab							\n					\n				\n			\n		Download
URL:https://wiredwest.net/event/wiredwest-executive-committee-meeting-5/
CATEGORIES:Executive Committee Meeting
END:VEVENT
BEGIN:VEVENT
DTSTART;TZID=America/New_York:20160601T180000
DTEND;TZID=America/New_York:20160601T180000
DTSTAMP:20260424T015241
CREATED:20160526T014741Z
LAST-MODIFIED:20160530T175611Z
UID:5227-1464804000-1464804000@wiredwest.net
SUMMARY:WiredWest Executive Committee Meeting
DESCRIPTION:Hampshire Council of Governments \nPosted on 5/25/2016 10pm\, Agenda updated 5/30/16 1:55pm \n			\n				\n					\n						\n							\n							Loading...\n						\n					\n					\n						\n							\n							Taking too long?\n						\n						\n							\n								 Reload document							\n							|\n							\n								 Open in new tab							\n					\n				\n			\n		Download
URL:https://wiredwest.net/event/wiredwest-executive-committee-meeting-4/
CATEGORIES:Executive Committee Meeting
END:VEVENT
BEGIN:VEVENT
DTSTART;TZID=America/New_York:20160525T180000
DTEND;TZID=America/New_York:20160525T180000
DTSTAMP:20260424T015241
CREATED:20160524T114834Z
LAST-MODIFIED:20160524T114901Z
UID:5184-1464199200-1464199200@wiredwest.net
SUMMARY:WiredWest Executive Committee Meeting
DESCRIPTION:Hampshire Council of Governments\, 99 Main Street\, Northampton\, MA \n			\n				\n					\n						\n							\n							Loading...\n						\n					\n					\n						\n							\n							Taking too long?\n						\n						\n							\n								 Reload document							\n							|\n							\n								 Open in new tab							\n					\n				\n			\n		Download
URL:https://wiredwest.net/event/wiredwest-executive-committee-meeting-3/
CATEGORIES:Executive Committee Meeting
END:VEVENT
BEGIN:VEVENT
DTSTART;TZID=America/New_York:20160518T180000
DTEND;TZID=America/New_York:20160518T200000
DTSTAMP:20260424T015241
CREATED:20160511T035839Z
LAST-MODIFIED:20160511T140538Z
UID:5081-1463594400-1463601600@wiredwest.net
SUMMARY:WiredWest Executive Committee Meeting
DESCRIPTION:Hampshire Council of Governments \nAgenda \n 
URL:https://wiredwest.net/event/wiredwest-executive-committee-meeting-2/
CATEGORIES:Executive Committee Meeting
END:VEVENT
BEGIN:VEVENT
DTSTART;TZID=America/New_York:20160509T180000
DTEND;TZID=America/New_York:20160509T190000
DTSTAMP:20260424T015241
CREATED:20160511T034519Z
LAST-MODIFIED:20160511T140124Z
UID:5077-1462816800-1462820400@wiredwest.net
SUMMARY:WiredWest Executive Committee Meeting
DESCRIPTION:The Old Courthouse\, 99 Main Street\, Northampton\, MA \n			\n				\n					\n						\n							\n							Loading...\n						\n					\n					\n						\n							\n							Taking too long?\n						\n						\n							\n								 Reload document							\n							|\n							\n								 Open in new tab							\n					\n				\n			\n		Download
URL:https://wiredwest.net/event/wiredwest-executive-committee-meeting/
CATEGORIES:Executive Committee Meeting
END:VEVENT
END:VCALENDAR